BEGIN:VCALENDAR
VERSION:2.0
PRODID:-// - ECPv6.15.20//NONSGML v1.0//EN
CALSCALE:GREGORIAN
METHOD:PUBLISH
X-ORIGINAL-URL:https://lezard.org
X-WR-CALDESC:Évènements pour 
REFRESH-INTERVAL;VALUE=DURATION:PT1H
X-Robots-Tag:noindex
X-PUBLISHED-TTL:PT1H
BEGIN:VTIMEZONE
TZID:Europe/Paris
BEGIN:DAYLIGHT
TZOFFSETFROM:+0100
TZOFFSETTO:+0200
TZNAME:CEST
DTSTART:20240331T010000
END:DAYLIGHT
BEGIN:STANDARD
TZOFFSETFROM:+0200
TZOFFSETTO:+0100
TZNAME:CET
DTSTART:20241027T010000
END:STANDARD
BEGIN:DAYLIGHT
TZOFFSETFROM:+0100
TZOFFSETTO:+0200
TZNAME:CEST
DTSTART:20250330T010000
END:DAYLIGHT
BEGIN:STANDARD
TZOFFSETFROM:+0200
TZOFFSETTO:+0100
TZNAME:CET
DTSTART:20251026T010000
END:STANDARD
BEGIN:DAYLIGHT
TZOFFSETFROM:+0100
TZOFFSETTO:+0200
TZNAME:CEST
DTSTART:20260329T010000
END:DAYLIGHT
BEGIN:STANDARD
TZOFFSETFROM:+0200
TZOFFSETTO:+0100
TZNAME:CET
DTSTART:20261025T010000
END:STANDARD
END:VTIMEZONE
BEGIN:VEVENT
DTSTART;VALUE=DATE:20250905
DTEND;VALUE=DATE:20250908
DTSTAMP:20260423T035358
CREATED:20250727T155705Z
LAST-MODIFIED:20250727T155742Z
UID:10787-1757030400-1757289599@lezard.org
SUMMARY:Fête du Marché Couvert
DESCRIPTION:FETE DU MARCHÉ COUVERT\nDu vendredi 05 septembre au dimanche 07 septembre 2025\n> Marché Couvert de Colmar \nEn partenariat avec l’Association des Commerçants du Marché Couvert de Colmar
URL:https://lezard.org/event/fete-du-marche-couvert/
LOCATION:Marché Couvert de Colmar\, 13 Rue des Écoles\, Colmar\, France
END:VEVENT
BEGIN:VEVENT
DTSTART;TZID=Europe/Paris:20250906T150000
DTEND;TZID=Europe/Paris:20250906T160000
DTSTAMP:20260423T035358
CREATED:20250727T162912Z
LAST-MODIFIED:20250727T162912Z
UID:10844-1757170800-1757174400@lezard.org
SUMMARY:Bob\, transports en tout genre - Cie L'Arbre à Vache
DESCRIPTION:FETE DU MARCHÉ COUVERT\nDu vendredi 05 septembre au dimanche 07 septembre 2025\n> Marché Couvert de Colmar \nEn partenariat avec l’Association des Commerçants du Marché Couvert de Colmar \nSAM 06.09.2025\n> 15h \nBOB\, TRANSPORTS EN TOUT GENRE\nCie L’Arbre à Vache
URL:https://lezard.org/event/bob-transports-en-tout-genre-cie-larbre-a-vache/
LOCATION:Marché Couvert de Colmar\, 13 Rue des Écoles\, Colmar\, France
END:VEVENT
END:VCALENDAR