BEGIN:VCALENDAR
VERSION:2.0
PRODID:-// - ECPv6.15.20//NONSGML v1.0//EN
CALSCALE:GREGORIAN
METHOD:PUBLISH
X-ORIGINAL-URL:https://lezard.org
X-WR-CALDESC:Évènements pour 
REFRESH-INTERVAL;VALUE=DURATION:PT1H
X-Robots-Tag:noindex
X-PUBLISHED-TTL:PT1H
BEGIN:VTIMEZONE
TZID:Europe/Paris
BEGIN:DAYLIGHT
TZOFFSETFROM:+0100
TZOFFSETTO:+0200
TZNAME:CEST
DTSTART:20240331T010000
END:DAYLIGHT
BEGIN:STANDARD
TZOFFSETFROM:+0200
TZOFFSETTO:+0100
TZNAME:CET
DTSTART:20241027T010000
END:STANDARD
BEGIN:DAYLIGHT
TZOFFSETFROM:+0100
TZOFFSETTO:+0200
TZNAME:CEST
DTSTART:20250330T010000
END:DAYLIGHT
BEGIN:STANDARD
TZOFFSETFROM:+0200
TZOFFSETTO:+0100
TZNAME:CET
DTSTART:20251026T010000
END:STANDARD
BEGIN:DAYLIGHT
TZOFFSETFROM:+0100
TZOFFSETTO:+0200
TZNAME:CEST
DTSTART:20260329T010000
END:DAYLIGHT
BEGIN:STANDARD
TZOFFSETFROM:+0200
TZOFFSETTO:+0100
TZNAME:CET
DTSTART:20261025T010000
END:STANDARD
END:VTIMEZONE
BEGIN:VEVENT
DTSTART;VALUE=DATE:20250919
DTEND;VALUE=DATE:20251025
DTSTAMP:20260423T021332
CREATED:20250727T160217Z
LAST-MODIFIED:20250727T160400Z
UID:10795-1758240000-1761350399@lezard.org
SUMMARY:Au coeur des silences - Pascale Duanyer
DESCRIPTION:ARTS VISUELS\nPASCALE DUANYER\n\n\n\n\n\n\n\nDu vendredi 19 septembre au vendredi 24 octobre 2025\nVernissage de l’exposition vendredi 19 septembre à 18h30\n> Espace Lézard\n> Entrée libre\n> Visite de groupe sur RDV\, réservation à l’adresse mediation@lezard.org
URL:https://lezard.org/event/expo-au-coeur-des-silences-pascale-duanyer/
LOCATION:Espace Lézard\, 12 route d'Ingersheim\, Colmar\, 68000
END:VEVENT
BEGIN:VEVENT
DTSTART;VALUE=DATE:20251007
DTEND;VALUE=DATE:20251012
DTSTAMP:20260423T021332
CREATED:20250727T160736Z
LAST-MODIFIED:20250727T160736Z
UID:10804-1759795200-1760227199@lezard.org
SUMMARY:Temps Fort Marionnettes
DESCRIPTION:SPECTACLE\nTEMPS FORT MARIONNETTES\n\nEn partenariat avec la Salle de Spectacles Europe et le CSC de Colmar \n\n\n\n\n\n\n\nDu mardi 07 au samedi 11 octobre 2025\nSalle de Spectacle Europe & Pacific – Colmar\n\n\n\n\n\n\nLe festival Temps Fort Marionnettes prend cette année ses quartiers à la Salle Europe et au Pacific !\nAu programme\, des spectacles jeune public autour de la marionnette et de l’objet animé. \n\n\n\n\n\n\nInfos pratiques \n> Tarif unique pour tous les spectacles : 5 €\n> Lieu : Salle de spectacles Europe – 13 rue d’Amsterdam – 68000 Colmar\n                   Pacific – 2 rue de Riquewihr – 68000 Colmar\n> Spectacles accessible aux personnes à mobilité réduites ; accessibles aux personnes malvoyantes
URL:https://lezard.org/event/temps-fort-marionnettes/
LOCATION:Colmar\, Colmar\, 68000\, France
END:VEVENT
BEGIN:VEVENT
DTSTART;VALUE=DATE:20251010
DTEND;VALUE=DATE:20251011
DTSTAMP:20260423T021332
CREATED:20250727T160958Z
LAST-MODIFIED:20250727T161244Z
UID:10809-1760054400-1760140799@lezard.org
SUMMARY:TFM : La véritable histoire de la reine des neiges - Cie On Nous Marche Sur Les Fleurs
DESCRIPTION:Vendredi 10/10 (Séances scolaires) * \n> 09h30 & 14h \n& \nVendredi 10/10  (Séance tout public) \n> 18h \n  \n  \n\n\n\n\n\n\nLA VÉRITABLE HISTOIRE DE LA REINE DES NEIGES\n– CIE ON NOUS MARCHE SUR LES FLEURS \n\n\n\n\n\n\nRosalie\, 5 ans\, vient de se coucher. Mais elle ne parvient pas à s’endormir… « Maman\, raconte moi La Reine des Neiges… La Véritable Histoire de la Reine des Neiges… » Alors la maman de Rosalie\, malgré le travail qui l’attend encore ce soir\, se lance tant bien que mal\, en s’aidant des jouets qui l’entourent\, dans l’histoire d’Andersen… Deux enfants\, Kay et Gerda\, grandissent ensemble. Ils\nne sont pas frère et sœur\, mais s’aiment autant que s’ils l’avaient été. Ils sont inséparables. Un soir d’hiver\, la grand-mère de Gerda raconte l’existence de la Reine des Neiges\, grande\, belle mais toute de glace\, et qui vient regarder par les fenêtres ce qui se passe chez les gens… Kay\, fanfaronne et provoque : « Qu’elle vienne ! Je la mettrai sur le feu et elle fondra ! ». Le soir même\, la Reine des Neiges apparaît à Kay\, qui ne tarde pas à disparaître…\nEt puis nous interroge sans brusquerie ni préjugé sur l’avenir de notre monde.
URL:https://lezard.org/event/tfm-la-veritable-histoire-de-la-reine-des-neiges-cie-on-nous-marche-sur-les-fleurs/
LOCATION:Salle de spectacle Europe\, 13 Rue d'Amsterdam\, Colmar\, 68000\, France
END:VEVENT
END:VCALENDAR