BEGIN:VCALENDAR
VERSION:2.0
PRODID:-// - ECPv6.15.20//NONSGML v1.0//EN
CALSCALE:GREGORIAN
METHOD:PUBLISH
X-ORIGINAL-URL:https://lezard.org
X-WR-CALDESC:Évènements pour 
REFRESH-INTERVAL;VALUE=DURATION:PT1H
X-Robots-Tag:noindex
X-PUBLISHED-TTL:PT1H
BEGIN:VTIMEZONE
TZID:Europe/Paris
BEGIN:DAYLIGHT
TZOFFSETFROM:+0100
TZOFFSETTO:+0200
TZNAME:CEST
DTSTART:20250330T010000
END:DAYLIGHT
BEGIN:STANDARD
TZOFFSETFROM:+0200
TZOFFSETTO:+0100
TZNAME:CET
DTSTART:20251026T010000
END:STANDARD
BEGIN:DAYLIGHT
TZOFFSETFROM:+0100
TZOFFSETTO:+0200
TZNAME:CEST
DTSTART:20260329T010000
END:DAYLIGHT
BEGIN:STANDARD
TZOFFSETFROM:+0200
TZOFFSETTO:+0100
TZNAME:CET
DTSTART:20261025T010000
END:STANDARD
BEGIN:DAYLIGHT
TZOFFSETFROM:+0100
TZOFFSETTO:+0200
TZNAME:CEST
DTSTART:20270328T010000
END:DAYLIGHT
BEGIN:STANDARD
TZOFFSETFROM:+0200
TZOFFSETTO:+0100
TZNAME:CET
DTSTART:20271031T010000
END:STANDARD
END:VTIMEZONE
BEGIN:VEVENT
DTSTART;TZID=Europe/Paris:20260402T200000
DTEND;TZID=Europe/Paris:20260402T233000
DTSTAMP:20260422T152639
CREATED:20260312T105041Z
LAST-MODIFIED:20260312T105041Z
UID:11338-1775160000-1775172600@lezard.org
SUMMARY:Soirée Courts-Métrages Musique
DESCRIPTION:Jeudi 2 avril 2026\n> Espace Lézard\n> 20H\nTARIFS\n6€ \, 4€*\, 2€**\n* Tarif réduit : Détenteur·rice·s de la Carte Lézard\, abonné·e·s ou adhérent·e·s de nos partenaires culturels (Comédie de Colmar\, Salle de Spectacles Europe\, Fédération Hiéro)\n** Tarif spécial : Moins de 25 ans\, étudiant·e·s\, demandeur·euse·s d’emploi\, bénéficiaires des minimas sociaux\, permanent·e·s et intermittent·e·s du secteur culturel
URL:https://lezard.org/event/soiree-courts-metrages-musique/
LOCATION:Espace Lézard\, 12 route d'Ingersheim\, Colmar\, 68000
END:VEVENT
END:VCALENDAR