BEGIN:VCALENDAR
VERSION:2.0
PRODID:-// - ECPv6.15.20//NONSGML v1.0//EN
CALSCALE:GREGORIAN
METHOD:PUBLISH
X-ORIGINAL-URL:https://lezard.org
X-WR-CALDESC:Évènements pour 
REFRESH-INTERVAL;VALUE=DURATION:PT1H
X-Robots-Tag:noindex
X-PUBLISHED-TTL:PT1H
BEGIN:VTIMEZONE
TZID:Europe/Paris
BEGIN:DAYLIGHT
TZOFFSETFROM:+0100
TZOFFSETTO:+0200
TZNAME:CEST
DTSTART:20250330T010000
END:DAYLIGHT
BEGIN:STANDARD
TZOFFSETFROM:+0200
TZOFFSETTO:+0100
TZNAME:CET
DTSTART:20251026T010000
END:STANDARD
BEGIN:DAYLIGHT
TZOFFSETFROM:+0100
TZOFFSETTO:+0200
TZNAME:CEST
DTSTART:20260329T010000
END:DAYLIGHT
BEGIN:STANDARD
TZOFFSETFROM:+0200
TZOFFSETTO:+0100
TZNAME:CET
DTSTART:20261025T010000
END:STANDARD
BEGIN:DAYLIGHT
TZOFFSETFROM:+0100
TZOFFSETTO:+0200
TZNAME:CEST
DTSTART:20270328T010000
END:DAYLIGHT
BEGIN:STANDARD
TZOFFSETFROM:+0200
TZOFFSETTO:+0100
TZNAME:CET
DTSTART:20271031T010000
END:STANDARD
END:VTIMEZONE
BEGIN:VEVENT
DTSTART;TZID=Europe/Paris:20260410T183000
DTEND;TZID=Europe/Paris:20260512T180000
DTSTAMP:20260423T014107
CREATED:20260312T104500Z
LAST-MODIFIED:20260312T104500Z
UID:11335-1775845800-1778608800@lezard.org
SUMMARY:Lézard s'expose
DESCRIPTION:Du vendredi 10 avril au mardi 12 mai 2026\nVernissage de l’exposition vendredi 10 avril à 18h30\n> Espace Lézard\n> Entrée libre\n> Visite de groupe sur RDV\, réservation à l’adresse mediation@lezard.org \n> gratuit
URL:https://lezard.org/event/lezard-sexpose/
LOCATION:Espace Lézard\, 12 route d'Ingersheim\, Colmar\, 68000
END:VEVENT
BEGIN:VEVENT
DTSTART;TZID=Europe/Paris:20260423T183000
DTEND;TZID=Europe/Paris:20260423T233000
DTSTAMP:20260423T014107
CREATED:20260323T153637Z
LAST-MODIFIED:20260323T153637Z
UID:11391-1776969000-1776987000@lezard.org
SUMMARY:Soirée littéraire avec Jessé Rémond Lacroix
DESCRIPTION:Vendredi 23 avril 2026\n> Espace Lézard\n> 18H30\n> Entrée gratuite
URL:https://lezard.org/event/soiree-litteraire-avec-jesse-remond-lacroix/
LOCATION:Espace Lézard\, 12 route d'Ingersheim\, Colmar\, 68000
END:VEVENT
END:VCALENDAR