BEGIN:VCALENDAR
VERSION:2.0
PRODID:-// - ECPv6.15.20//NONSGML v1.0//EN
CALSCALE:GREGORIAN
METHOD:PUBLISH
X-ORIGINAL-URL:https://lezard.org
X-WR-CALDESC:Évènements pour 
REFRESH-INTERVAL;VALUE=DURATION:PT1H
X-Robots-Tag:noindex
X-PUBLISHED-TTL:PT1H
BEGIN:VTIMEZONE
TZID:Europe/Paris
BEGIN:DAYLIGHT
TZOFFSETFROM:+0100
TZOFFSETTO:+0200
TZNAME:CEST
DTSTART:20230326T010000
END:DAYLIGHT
BEGIN:STANDARD
TZOFFSETFROM:+0200
TZOFFSETTO:+0100
TZNAME:CET
DTSTART:20231029T010000
END:STANDARD
BEGIN:DAYLIGHT
TZOFFSETFROM:+0100
TZOFFSETTO:+0200
TZNAME:CEST
DTSTART:20240331T010000
END:DAYLIGHT
BEGIN:STANDARD
TZOFFSETFROM:+0200
TZOFFSETTO:+0100
TZNAME:CET
DTSTART:20241027T010000
END:STANDARD
BEGIN:DAYLIGHT
TZOFFSETFROM:+0100
TZOFFSETTO:+0200
TZNAME:CEST
DTSTART:20250330T010000
END:DAYLIGHT
BEGIN:STANDARD
TZOFFSETFROM:+0200
TZOFFSETTO:+0100
TZNAME:CET
DTSTART:20251026T010000
END:STANDARD
END:VTIMEZONE
BEGIN:VEVENT
DTSTART;TZID=Europe/Paris:20240913T000000
DTEND;TZID=Europe/Paris:20241013T235900
DTSTAMP:20260425T130343
CREATED:20240825T125558Z
LAST-MODIFIED:20240911T053633Z
UID:9669-1726185600-1728863940@lezard.org
SUMMARY:Arts Visuels - Exposition Gisoo Kim
DESCRIPTION:  \n\n\n\n\nARTS VISUELS\nGISOO KIM\n\n\n\n\n\n\n\nDu vendredi 13 septembre au vendredi 18 octobre 2024\n \n> Espace Lézard\n> Entrée libre\n> Visite de groupe sur RDV\, réservation à l’adresse mediation@lezard.org \n  \nBRODERIES ET PHOTOGRAPHIES\n\nJe relie des lieux qui ne vont pas ensemble\, des lieux évidents avec des lieux étranges\, en créant un paysage\, une nouvelle réalité avec différents motifs photographiques. Toutes les photos que j’utilise pour mes collages ont été prises par moi-même avec mon appareil photo analogique « Nikon FM2 ».\nJe n’assemble pas ces photos à l’ordinateur\, mais je couds les différents éléments à la main.\nLe fil à coudre de différentes couleurs n’est pas seulement un moyen de liaison\, mais aussi un moyen de création.\nLes broderies ressemblent à des dessins sur les photographies\, qui forment différentes structures et font apparaître d’autres niveaux\, qui peuvent être lus de manière figurative ou abstraite. \n  \n\n\n\n\n\n\nVENDREDI 13 SEPTEMBRE \n> 18h30 \nVernissage de l’exposition en présence de l’artiste \n  \n 
URL:https://lezard.org/event/exposition-gisoo-kim/
LOCATION:Espace Lézard\, 12 route d'Ingersheim\, Colmar\, 68000
END:VEVENT
BEGIN:VEVENT
DTSTART;TZID=Europe/Paris:20241008T200000
DTEND;TZID=Europe/Paris:20241008T233000
DTSTAMP:20260425T130343
CREATED:20240923T074707Z
LAST-MODIFIED:20240923T075322Z
UID:9865-1728417600-1728430200@lezard.org
SUMMARY:Cinéma : Soirée Architecture
DESCRIPTION:SOIRÉE DÉBAT : \n\n\n\n\n\n\nARCHITECTURE\n  \n\n\n\n\n\n\nMardi 08 octobre 2024\n> CGR de Colmar \n  \n> 20h\nICI BRAZZA\nRéalisateur : Antoine Boutet\nDistributeur : Les Alchimistes\nFrance – 1h26 – Documentaire – 2024 \nIci Brazza\, tout un programme : une zone en friche vit ses dernières heures. 53 hectares à bâtir pour un vaste projet immobilier dans l’air du temps. Chronique d’un terrain vague en transformation\, le film scrute l’annonce d’un « nouvel art de vivre » dans la réalité brute du terrain. \nSoirée organisée dans le cadre des Journées de l’Architecture.\nEn partenariat avec le CGR de Colmar\, la Maison Européenne de l’Architecture et l’ACID.\n \n 
URL:https://lezard.org/event/cinema-soiree-architecture/
LOCATION:Cinéma CGR\, Place Scheurer Kestner\, Colmar\, 68000\, France
END:VEVENT
END:VCALENDAR