BEGIN:VCALENDAR
VERSION:2.0
PRODID:-// - ECPv6.15.20//NONSGML v1.0//EN
CALSCALE:GREGORIAN
METHOD:PUBLISH
X-ORIGINAL-URL:https://lezard.org
X-WR-CALDESC:Évènements pour 
REFRESH-INTERVAL;VALUE=DURATION:PT1H
X-Robots-Tag:noindex
X-PUBLISHED-TTL:PT1H
BEGIN:VTIMEZONE
TZID:Europe/Paris
BEGIN:DAYLIGHT
TZOFFSETFROM:+0100
TZOFFSETTO:+0200
TZNAME:CEST
DTSTART:20220327T010000
END:DAYLIGHT
BEGIN:STANDARD
TZOFFSETFROM:+0200
TZOFFSETTO:+0100
TZNAME:CET
DTSTART:20221030T010000
END:STANDARD
BEGIN:DAYLIGHT
TZOFFSETFROM:+0100
TZOFFSETTO:+0200
TZNAME:CEST
DTSTART:20230326T010000
END:DAYLIGHT
BEGIN:STANDARD
TZOFFSETFROM:+0200
TZOFFSETTO:+0100
TZNAME:CET
DTSTART:20231029T010000
END:STANDARD
BEGIN:DAYLIGHT
TZOFFSETFROM:+0100
TZOFFSETTO:+0200
TZNAME:CEST
DTSTART:20240331T010000
END:DAYLIGHT
BEGIN:STANDARD
TZOFFSETFROM:+0200
TZOFFSETTO:+0100
TZNAME:CET
DTSTART:20241027T010000
END:STANDARD
END:VTIMEZONE
BEGIN:VEVENT
DTSTART;TZID=Europe/Paris:20230930T150000
DTEND;TZID=Europe/Paris:20230930T170000
DTSTAMP:20260423T021858
CREATED:20230925T074645Z
LAST-MODIFIED:20230925T075547Z
UID:8474-1696086000-1696093200@lezard.org
SUMMARY:Atelier d'écriture : dans le musée du banal de Nina Imbs
DESCRIPTION:ATELIER D’ÉCRITURE\nDANS LE MUSÉE DU BANAL DE NINA IMBS
URL:https://lezard.org/event/atelier-ecriture/
LOCATION:Espace Lézard\, 12 route d'Ingersheim\, Colmar\, 68000
END:VEVENT
BEGIN:VEVENT
DTSTART;TZID=Europe/Paris:20230929T190000
DTEND;TZID=Europe/Paris:20230929T230000
DTSTAMP:20260423T021858
CREATED:20230816T131405Z
LAST-MODIFIED:20230816T131542Z
UID:8279-1696014000-1696028400@lezard.org
SUMMARY:Soirée spéciale Iran
DESCRIPTION:> 19h\nSEPT HIVERS À TÉHÉRAN\n> 21h\nCHEVALIER NOIR
URL:https://lezard.org/event/soiree-speciale-iran/
LOCATION:Cinéma CGR\, Place Scheurer Kestner\, Colmar\, 68000\, France
END:VEVENT
BEGIN:VEVENT
DTSTART;TZID=Europe/Paris:20230922T190000
DTEND;TZID=Europe/Paris:20230922T230000
DTSTAMP:20260423T021858
CREATED:20230814T123141Z
LAST-MODIFIED:20230818T090949Z
UID:8211-1695409200-1695423600@lezard.org
SUMMARY:Festival Compagnons d'encre
DESCRIPTION:Festival culturel & solidaire d’Emmaüs Scherwiller\nLézard et EmmaCulture\, le pôle culturel d’Emmaüs Scherwiller s’associent pour imaginer une soirée musicale et festive\, en prélude au festival Compagnons d’encre qui aura lieu à Emmaüs Scherwiller le samedi 30 septembre et dimanche 1er octobre.
URL:https://lezard.org/event/festival-compagnons-dencre/
LOCATION:Emmaüs Colmar Horbourg-Wihr\, 2 rue de Belfort\, Horbourg-Wihr\, 68180\, France
END:VEVENT
BEGIN:VEVENT
DTSTART;TZID=Europe/Paris:20230915T200000
DTEND;TZID=Europe/Paris:20230915T230000
DTSTAMP:20260423T021858
CREATED:20230814T085801Z
LAST-MODIFIED:20230814T120218Z
UID:8182-1694808000-1694818800@lezard.org
SUMMARY:Les Courts de Lézard #4
DESCRIPTION:Pour cette première de la saison\, l’équipe de cinéphiles de l’association vous a concocté une sélection du meilleur des courts-métrages d’animation !
URL:https://lezard.org/event/les-courts-de-lezard-4/
LOCATION:Espace Lézard\, 12 route d'Ingersheim\, Colmar\, 68000
END:VEVENT
BEGIN:VEVENT
DTSTART;TZID=Europe/Paris:20230908T183000
DTEND;TZID=Europe/Paris:20231013T183000
DTSTAMP:20260423T021858
CREATED:20230811T092711Z
LAST-MODIFIED:20230925T111521Z
UID:8173-1694197800-1697221800@lezard.org
SUMMARY:Exposition Nina Imbs - Le musée du banal
DESCRIPTION:Le travail de Nina Imbs rayonne de petits paradoxes que l’on pourrait aussi nommer contrastes.\nDrôles et sombres\, les personnages de ses images sont habités. Ils paraissent souvent absorbés dans un lointain intérieur mais sont très proches les uns des autres.
URL:https://lezard.org/event/exposition-nina-imbs-le-musee-du-banal/
LOCATION:Espace Lézard\, 12 route d'Ingersheim\, Colmar\, 68000
END:VEVENT
BEGIN:VEVENT
DTSTART;TZID=Europe/Paris:20230818T170000
DTEND;TZID=Europe/Paris:20230818T200000
DTSTAMP:20260423T021858
CREATED:20230703T134823Z
LAST-MODIFIED:20230703T135121Z
UID:7767-1692378000-1692388800@lezard.org
SUMMARY:Atelier artistique Ambulant
DESCRIPTION:
URL:https://lezard.org/event/atelier-artistique-ambulant-18-08-2023/
LOCATION:Parc Sigolsheim – Square des Vignes\, Sigolsheim\, 68240\, France
END:VEVENT
BEGIN:VEVENT
DTSTART;TZID=Europe/Paris:20230804T170000
DTEND;TZID=Europe/Paris:20230804T200000
DTSTAMP:20260423T021858
CREATED:20230703T134310Z
LAST-MODIFIED:20230703T135134Z
UID:7761-1691168400-1691179200@lezard.org
SUMMARY:Initiation graffiti
DESCRIPTION:
URL:https://lezard.org/event/initiation-graffiti-04-08-2023/
LOCATION:Parc Sigolsheim – Square des Vignes\, Sigolsheim\, 68240\, France
END:VEVENT
BEGIN:VEVENT
DTSTART;TZID=Europe/Paris:20230804T170000
DTEND;TZID=Europe/Paris:20230804T200000
DTSTAMP:20260423T021858
CREATED:20230703T133935Z
LAST-MODIFIED:20230703T135156Z
UID:7758-1691168400-1691179200@lezard.org
SUMMARY:Art'Découv
DESCRIPTION:
URL:https://lezard.org/event/artdecouv-04-08-2023/
LOCATION:Parc Sigolsheim – Square des Vignes\, Sigolsheim\, 68240\, France
END:VEVENT
BEGIN:VEVENT
DTSTART;TZID=Europe/Paris:20230731T170000
DTEND;TZID=Europe/Paris:20230731T200000
DTSTAMP:20260423T021858
CREATED:20230703T134504Z
LAST-MODIFIED:20230703T135213Z
UID:7765-1690822800-1690833600@lezard.org
SUMMARY:Atelier artistique Ambulant
DESCRIPTION:
URL:https://lezard.org/event/atelier-artistique-ambulant-31-07-2023-copy/
LOCATION:Plaine Pasteur\, Colmar\, 68000\, France
END:VEVENT
BEGIN:VEVENT
DTSTART;TZID=Europe/Paris:20230731T170000
DTEND;TZID=Europe/Paris:20230731T200000
DTSTAMP:20260423T021858
CREATED:20230703T133835Z
LAST-MODIFIED:20230703T135233Z
UID:7756-1690822800-1690833600@lezard.org
SUMMARY:Art'Découv
DESCRIPTION:
URL:https://lezard.org/event/artdecouv-31-07-2023/
LOCATION:Parc Sigolsheim – Square des Vignes\, Sigolsheim\, 68240\, France
END:VEVENT
BEGIN:VEVENT
DTSTART;TZID=Europe/Paris:20230728T170000
DTEND;TZID=Europe/Paris:20230728T200000
DTSTAMP:20260423T021858
CREATED:20230703T133317Z
LAST-MODIFIED:20230703T135250Z
UID:7752-1690563600-1690574400@lezard.org
SUMMARY:Atelier artistique Ambulant
DESCRIPTION:
URL:https://lezard.org/event/atelier-artistique-ambulant-28-07-2023/
LOCATION:Parc Sigolsheim – Square des Vignes\, Sigolsheim\, 68240\, France
END:VEVENT
BEGIN:VEVENT
DTSTART;TZID=Europe/Paris:20230728T170000
DTEND;TZID=Europe/Paris:20230728T200000
DTSTAMP:20260423T021858
CREATED:20230703T133042Z
LAST-MODIFIED:20230703T135323Z
UID:7748-1690563600-1690574400@lezard.org
SUMMARY:Initiation graffiti
DESCRIPTION:
URL:https://lezard.org/event/initiation-graffiti-28-07-2023/
LOCATION:Parc Sigolsheim – Square des Vignes\, Sigolsheim\, 68240\, France
END:VEVENT
BEGIN:VEVENT
DTSTART;TZID=Europe/Paris:20230725T093000
DTEND;TZID=Europe/Paris:20230725T123000
DTSTAMP:20260423T021858
CREATED:20230703T132810Z
LAST-MODIFIED:20230703T135337Z
UID:7745-1690277400-1690288200@lezard.org
SUMMARY:Jeu de peindre
DESCRIPTION:
URL:https://lezard.org/event/jeu-de-peindre-25-07-2023/
LOCATION:155 route d’Ingersheim\, Colmar\, 68000\, France
END:VEVENT
BEGIN:VEVENT
DTSTART;TZID=Europe/Paris:20230724T170000
DTEND;TZID=Europe/Paris:20230724T200000
DTSTAMP:20260423T021858
CREATED:20230703T132435Z
LAST-MODIFIED:20230703T135355Z
UID:7742-1690218000-1690228800@lezard.org
SUMMARY:Atelier artistique Ambulant
DESCRIPTION:
URL:https://lezard.org/event/atelier-artistique-ambulant-24-07-2023/
LOCATION:Plaine Pasteur\, Colmar\, 68000\, France
END:VEVENT
BEGIN:VEVENT
DTSTART;TZID=Europe/Paris:20230724T170000
DTEND;TZID=Europe/Paris:20230724T200000
DTSTAMP:20260423T021858
CREATED:20230703T131126Z
LAST-MODIFIED:20230703T131314Z
UID:7727-1690218000-1690228800@lezard.org
SUMMARY:Jeu de peindre
DESCRIPTION:
URL:https://lezard.org/event/jeu-de-peindre-24-07-2023/
LOCATION:Plaine Pasteur\, Colmar\, 68000\, France
END:VEVENT
BEGIN:VEVENT
DTSTART;TZID=Europe/Paris:20230721T170000
DTEND;TZID=Europe/Paris:20230721T200000
DTSTAMP:20260423T021858
CREATED:20230703T130941Z
LAST-MODIFIED:20230703T135440Z
UID:7725-1689958800-1689969600@lezard.org
SUMMARY:Ca gronde
DESCRIPTION:
URL:https://lezard.org/event/ca-gronde/
LOCATION:Parc Sigolsheim – Square des Vignes\, Sigolsheim\, 68240\, France
END:VEVENT
BEGIN:VEVENT
DTSTART;TZID=Europe/Paris:20230720T140000
DTEND;TZID=Europe/Paris:20230720T170000
DTSTAMP:20260423T021858
CREATED:20230703T124716Z
LAST-MODIFIED:20230703T135455Z
UID:7723-1689861600-1689872400@lezard.org
SUMMARY:Ca gronde
DESCRIPTION:
URL:https://lezard.org/event/ca-gronde-20-07-2023/
LOCATION:155 route d’Ingersheim\, Colmar\, 68000\, France
END:VEVENT
BEGIN:VEVENT
DTSTART;TZID=Europe/Paris:20230719T140000
DTEND;TZID=Europe/Paris:20230719T170000
DTSTAMP:20260423T021858
CREATED:20230703T124457Z
LAST-MODIFIED:20230703T135533Z
UID:7721-1689775200-1689786000@lezard.org
SUMMARY:Ca gronde
DESCRIPTION:
URL:https://lezard.org/event/ca-gronde-19-07-2023/
LOCATION:155 route d’Ingersheim\, Colmar\, 68000\, France
END:VEVENT
BEGIN:VEVENT
DTSTART;TZID=Europe/Paris:20230718T140000
DTEND;TZID=Europe/Paris:20230718T170000
DTSTAMP:20260423T021858
CREATED:20230703T124300Z
LAST-MODIFIED:20230703T131831Z
UID:7719-1689688800-1689699600@lezard.org
SUMMARY:Ca gronde
DESCRIPTION:
URL:https://lezard.org/event/ca-gronde-18-07-2023/
LOCATION:155 route d’Ingersheim\, Colmar\, 68000\, France
END:VEVENT
BEGIN:VEVENT
DTSTART;TZID=Europe/Paris:20230717T170000
DTEND;TZID=Europe/Paris:20230717T200000
DTSTAMP:20260423T021858
CREATED:20230703T100604Z
LAST-MODIFIED:20230703T135552Z
UID:7715-1689613200-1689624000@lezard.org
SUMMARY:Ca gronde
DESCRIPTION:
URL:https://lezard.org/event/ca-gronde-17-07-2023/
LOCATION:Plaine Pasteur\, Colmar\, 68000\, France
END:VEVENT
BEGIN:VEVENT
DTSTART;TZID=Europe/Paris:20230717T170000
DTEND;TZID=Europe/Paris:20230717T200000
DTSTAMP:20260423T021858
CREATED:20230703T100335Z
LAST-MODIFIED:20230703T135610Z
UID:7713-1689613200-1689624000@lezard.org
SUMMARY:Jeu de peindre
DESCRIPTION:
URL:https://lezard.org/event/jeu-de-peindre/
LOCATION:Plaine Pasteur\, Colmar\, 68000\, France
END:VEVENT
BEGIN:VEVENT
DTSTART;TZID=Europe/Paris:20230711T093000
DTEND;TZID=Europe/Paris:20230711T123000
DTSTAMP:20260423T021858
CREATED:20230703T100053Z
LAST-MODIFIED:20230703T135626Z
UID:7709-1689067800-1689078600@lezard.org
SUMMARY:Jeu de peindre
DESCRIPTION:
URL:https://lezard.org/event/jeu-de-peindre-11-07-2023/
LOCATION:155 route d’Ingersheim\, Colmar\, 68000\, France
END:VEVENT
BEGIN:VEVENT
DTSTART;TZID=Europe/Paris:20230710T170000
DTEND;TZID=Europe/Paris:20230710T200000
DTSTAMP:20260423T021858
CREATED:20230703T095647Z
LAST-MODIFIED:20230703T135641Z
UID:7707-1689008400-1689019200@lezard.org
SUMMARY:Atelier artistique Ambulant
DESCRIPTION:
URL:https://lezard.org/event/atelier-artistique-ambulant/
LOCATION:Plaine Pasteur\, Colmar\, 68000\, France
END:VEVENT
BEGIN:VEVENT
DTSTART;TZID=Europe/Paris:20230710T170000
DTEND;TZID=Europe/Paris:20230710T200000
DTSTAMP:20260423T021858
CREATED:20230703T095436Z
LAST-MODIFIED:20230703T135658Z
UID:7704-1689008400-1689019200@lezard.org
SUMMARY:Jeu de peindre
DESCRIPTION:
URL:https://lezard.org/event/jeu-de-peindre-10-07-2023/
LOCATION:Plaine Pasteur\, Colmar\, 68000\, France
END:VEVENT
BEGIN:VEVENT
DTSTART;TZID=Europe/Paris:20230708T150000
DTEND;TZID=Europe/Paris:20230708T180000
DTSTAMP:20260423T021858
CREATED:20230703T094447Z
LAST-MODIFIED:20230703T135751Z
UID:7701-1688828400-1688839200@lezard.org
SUMMARY:Initiation graffiti
DESCRIPTION:
URL:https://lezard.org/event/initiation-graffiti-08-07-2023/
LOCATION:Parc Sigolsheim – Square des Vignes\, Sigolsheim\, 68240\, France
END:VEVENT
BEGIN:VEVENT
DTSTART;TZID=Europe/Paris:20230630T180000
DTEND;TZID=Europe/Paris:20230630T233000
DTSTAMP:20260423T021858
CREATED:20230524T112153Z
LAST-MODIFIED:20230524T112153Z
UID:7153-1688148000-1688167800@lezard.org
SUMMARY:Garden Party
DESCRIPTION:SOIRÉE\nGARDEN PARTY\n> 18h30 / Création participative \n> 20h30 / LAS BAKLAVAS \n> 22h30 / BLACK VOICES COMBO
URL:https://lezard.org/event/garden-party-3/
LOCATION:Espace Lézard\, 12 route d'Ingersheim\, Colmar\, 68000
END:VEVENT
BEGIN:VEVENT
DTSTART;TZID=Europe/Paris:20230622T183000
DTEND;TZID=Europe/Paris:20230706T180000
DTSTAMP:20260423T021858
CREATED:20230531T082334Z
LAST-MODIFIED:20230531T113950Z
UID:7178-1687458600-1688666400@lezard.org
SUMMARY:Exposition Fenêtres #6
DESCRIPTION:Une nouvelle fenêtre s’ouvre sur les actions culturelles menées tout au  long de la saison par Lézard !\nCette exposition est le produit de plus de 25 rencontres entre les publics et différent·e·s artistes.\nDu cinéma à la musique\, du milieu carcéral au médico-social\, vous pourrez y retrouver les photos et autres créations de nos ateliers menés avec nos publics sur ces neuf derniers mois.
URL:https://lezard.org/event/exposition-fenetres-6/
LOCATION:Espace Lézard\, 12 route d'Ingersheim\, Colmar\, 68000
END:VEVENT
BEGIN:VEVENT
DTSTART;VALUE=DATE:20230512
DTEND;VALUE=DATE:20230617
DTSTAMP:20260423T021858
CREATED:20230509T083156Z
LAST-MODIFIED:20230509T084914Z
UID:7040-1683849600-1686959999@lezard.org
SUMMARY:Exposition - Chiquet / Küng
DESCRIPTION:  \n \n\nEXPOSITION CHIQUET / KÜNG\nDEUX VOIES DIVERSES \nLes sculptures symboliques de René Küng\, créées à partir de matériaux naturels\, comme la pierre et le bois\, contrastent avec les plastiques en métal de Daniel Chiquet\, avec leurs formes claires\, précises et complexes.
URL:https://lezard.org/event/exposition-chiquet-kung/
LOCATION:Espace Lézard\, 12 route d'Ingersheim\, Colmar\, 68000
END:VEVENT
BEGIN:VEVENT
DTSTART;VALUE=DATE:20230428
DTEND;VALUE=DATE:20230507
DTSTAMP:20260423T021858
CREATED:20230405T071844Z
LAST-MODIFIED:20230405T072109Z
UID:6923-1682640000-1683417599@lezard.org
SUMMARY:Exposition - Catalogue Vivant des Ateliers Ouverts 2023
DESCRIPTION:24ème édition \nLézard est partenaire de la 24ème édition des Ateliers Ouverts !
URL:https://lezard.org/event/exposition-catalogue-vivant-des-ateliers-ouverts-2023/
LOCATION:Espace Lézard\, 12 route d'Ingersheim\, Colmar\, 68000
END:VEVENT
END:VCALENDAR