BEGIN:VCALENDAR
VERSION:2.0
PRODID:-// - ECPv6.15.20//NONSGML v1.0//EN
CALSCALE:GREGORIAN
METHOD:PUBLISH
X-ORIGINAL-URL:https://lezard.org
X-WR-CALDESC:Évènements pour 
REFRESH-INTERVAL;VALUE=DURATION:PT1H
X-Robots-Tag:noindex
X-PUBLISHED-TTL:PT1H
BEGIN:VTIMEZONE
TZID:Europe/Paris
BEGIN:DAYLIGHT
TZOFFSETFROM:+0100
TZOFFSETTO:+0200
TZNAME:CEST
DTSTART:20170326T010000
END:DAYLIGHT
BEGIN:STANDARD
TZOFFSETFROM:+0200
TZOFFSETTO:+0100
TZNAME:CET
DTSTART:20171029T010000
END:STANDARD
BEGIN:DAYLIGHT
TZOFFSETFROM:+0100
TZOFFSETTO:+0200
TZNAME:CEST
DTSTART:20180325T010000
END:DAYLIGHT
BEGIN:STANDARD
TZOFFSETFROM:+0200
TZOFFSETTO:+0100
TZNAME:CET
DTSTART:20181028T010000
END:STANDARD
BEGIN:DAYLIGHT
TZOFFSETFROM:+0100
TZOFFSETTO:+0200
TZNAME:CEST
DTSTART:20190331T010000
END:DAYLIGHT
BEGIN:STANDARD
TZOFFSETFROM:+0200
TZOFFSETTO:+0100
TZNAME:CET
DTSTART:20191027T010000
END:STANDARD
BEGIN:DAYLIGHT
TZOFFSETFROM:+0100
TZOFFSETTO:+0200
TZNAME:CEST
DTSTART:20200329T010000
END:DAYLIGHT
BEGIN:STANDARD
TZOFFSETFROM:+0200
TZOFFSETTO:+0100
TZNAME:CET
DTSTART:20201025T010000
END:STANDARD
BEGIN:DAYLIGHT
TZOFFSETFROM:+0100
TZOFFSETTO:+0200
TZNAME:CEST
DTSTART:20210328T010000
END:DAYLIGHT
BEGIN:STANDARD
TZOFFSETFROM:+0200
TZOFFSETTO:+0100
TZNAME:CET
DTSTART:20211031T010000
END:STANDARD
BEGIN:DAYLIGHT
TZOFFSETFROM:+0100
TZOFFSETTO:+0200
TZNAME:CEST
DTSTART:20220327T010000
END:DAYLIGHT
BEGIN:STANDARD
TZOFFSETFROM:+0200
TZOFFSETTO:+0100
TZNAME:CET
DTSTART:20221030T010000
END:STANDARD
BEGIN:DAYLIGHT
TZOFFSETFROM:+0100
TZOFFSETTO:+0200
TZNAME:CEST
DTSTART:20230326T010000
END:DAYLIGHT
BEGIN:STANDARD
TZOFFSETFROM:+0200
TZOFFSETTO:+0100
TZNAME:CET
DTSTART:20231029T010000
END:STANDARD
BEGIN:DAYLIGHT
TZOFFSETFROM:+0100
TZOFFSETTO:+0200
TZNAME:CEST
DTSTART:20240331T010000
END:DAYLIGHT
BEGIN:STANDARD
TZOFFSETFROM:+0200
TZOFFSETTO:+0100
TZNAME:CET
DTSTART:20241027T010000
END:STANDARD
BEGIN:DAYLIGHT
TZOFFSETFROM:+0100
TZOFFSETTO:+0200
TZNAME:CEST
DTSTART:20250330T010000
END:DAYLIGHT
BEGIN:STANDARD
TZOFFSETFROM:+0200
TZOFFSETTO:+0100
TZNAME:CET
DTSTART:20251026T010000
END:STANDARD
END:VTIMEZONE
BEGIN:VEVENT
DTSTART;TZID=Europe/Paris:20240413T100000
DTEND;TZID=Europe/Paris:20240413T113000
DTSTAMP:20260422T185613
CREATED:20240408T072547Z
LAST-MODIFIED:20240408T073043Z
UID:9453-1713002400-1713007800@lezard.org
SUMMARY:Cinéma : Café Cinéma
DESCRIPTION:  \n\n\n\nCAFÉ CINÉMA\n\n\n\n\n\n\nSamedi 13 avril 2024\n> Espace Lézard\, COLMAR \n> De 10h à 11h30\nAU SORTIR DU MARCHÉ !\nÀ Lézard\, sept bénévoles sont chargé.e.s de dénicher et sélectionner collectivement les films qui composeront une programmation Art et Essai en partenariat avec le CGR de Colmar. Cette commission cinéma vous propose le samedi 13 mars un temps d’échange convivial autour de leurs films coups de cœur\, l’occasion également de témoigner de leur pratique atypique de programmation rendant les bénévoles pleinement décisionnaires du projet artistique de l’association.\nConvivialité oblige\, croissant et café seront de la partie ! \nÉvénement dans le cadre du Festival du film de Colmar\nOrganisé par la ville de Colmar
URL:https://lezard.org/event/cinema-soiree-maroc-copy/
LOCATION:Espace Lézard\, 12 route d'Ingersheim\, Colmar\, 68000
END:VEVENT
BEGIN:VEVENT
DTSTART;TZID=Europe/Paris:20240405T190000
DTEND;TZID=Europe/Paris:20240405T233000
DTSTAMP:20260422T185613
CREATED:20240327T090017Z
LAST-MODIFIED:20240327T092550Z
UID:9425-1712343600-1712359800@lezard.org
SUMMARY:Cinéma : Soirée spéciale Maroc
DESCRIPTION:Vendredi 05 avril 2024\n> CGR de Colmar \n> 19h\n  \nLA MÈRE DE TOUS LES MENSONGES\n\nRéalisateur :\nAsmae El Moudir\n2024 – 1h36\nDocumentaire \nCasablanca. La jeune cinéaste cherche à démêler les mensonges qui se transmettent dans sa famille. Grâce à une maquette du quartier de son enfance et de figurines représentant ses proches\, elle rejoue sa propre histoire. C’est alors que de ce petit théâtre familial en carton émergent les blessures de tout un peuple et que se révèle l’Histoire oubliée du Maroc. \n> 21h\n  \nDÉSERTS\n\nRéalisateur :\nFaouzi Bensaidi\n2023 – 2h04\n \nMehdi et Hamid travaillent pour une société de recouvrement aux confins du Maroc\, entre routes non balisées et bleds reculés . Soumis aux résultats\, ils sont aussi démunis et victimes du capitalisme que ceux auxquels ils réclament une poignée de dirhams. Un road trip burlesque\, riche en saynètes loufoques et tendres\, dans le décor somptueux d’une nature époustouflante de beauté.
URL:https://lezard.org/event/cinema-soiree-maroc/
LOCATION:Cinéma CGR\, Place Scheurer Kestner\, Colmar\, 68000\, France
END:VEVENT
BEGIN:VEVENT
DTSTART;VALUE=DATE:20240322
DTEND;VALUE=DATE:20240329
DTSTAMP:20260422T185613
CREATED:20240304T134043Z
LAST-MODIFIED:20240304T134655Z
UID:9343-1711065600-1711670399@lezard.org
SUMMARY:Festival Senti'mental
DESCRIPTION:Festival Senti’mental\nDu vendredi 22/03 au jeudi 28/03\n \nSpectacle « Au-delàs » – Vendredi 22/03 – Espace Lézard \nCinéma « Funambules » – Mardi 26/03 à 20h – CGR Colmar \nCinéma « Les courts du Lézard #7 : spécial handicap » – Jeudi 28/03 à 20h – Espace Lézard
URL:https://lezard.org/event/festival-sentimental/
LOCATION:Colmar et environs
END:VEVENT
BEGIN:VEVENT
DTSTART;TZID=Europe/Paris:20240312T200000
DTEND;TZID=Europe/Paris:20240312T223000
DTSTAMP:20260422T185613
CREATED:20231211T151949Z
LAST-MODIFIED:20231211T154237Z
UID:9120-1710273600-1710282600@lezard.org
SUMMARY:Cinéma : Soirée spéciale droits des femmes
DESCRIPTION:Mardi 12 mars 2024\n> CGR de Colmar \n> 20h\nJE VOUS SALUE SALOPE\nLa misogynie au temps du numérique\n\nRéalisatrices :\nLéa Clermont-Dion & Guylaine Maroist\nPays : Canada\n2023 – 1h14 \n> Projection suivie d’un débat \n> En présence d’ Emanouela Todorova\, présidente de l’asso Dis Bonjour Sale Pute
URL:https://lezard.org/event/cinema-soiree-droits-des-femmes/
LOCATION:Cinéma CGR\, Place Scheurer Kestner\, Colmar\, 68000\, France
END:VEVENT
BEGIN:VEVENT
DTSTART;TZID=Europe/Paris:20240206T200000
DTEND;TZID=Europe/Paris:20240206T223000
DTSTAMP:20260422T185613
CREATED:20231211T114807Z
LAST-MODIFIED:20240122T152914Z
UID:9076-1707249600-1707258600@lezard.org
SUMMARY:Cinéma : Soirée spéciale Migration
DESCRIPTION:  \nLE CHANT DES VIVANTS\n \nRéalisatrice : Cécile Allegra\n2023 – 1h22\nDocumentaire \n> Projection suivie d’un débat \n> En partenariat avec LA CIMADE \n1 film : 6€50 – 5€50 (carte Lézard) – 5€ (UHA)
URL:https://lezard.org/event/cinema-soiree-migration/
LOCATION:Cinéma CGR\, Place Scheurer Kestner\, Colmar\, 68000\, France
END:VEVENT
BEGIN:VEVENT
DTSTART;TZID=Europe/Paris:20240126T193000
DTEND;TZID=Europe/Paris:20240126T223000
DTSTAMP:20260422T185613
CREATED:20231208T151811Z
LAST-MODIFIED:20231208T152721Z
UID:9061-1706297400-1706308200@lezard.org
SUMMARY:Les courts de Lézard spécial Musée
DESCRIPTION:Vendredi 26 janvier 2024 à 20h au Musée Unterlinden – Piscine\n\n\n\n\n\n\n\nLézard s’associe à la Fête-Anniversaire du Musée Unterlinden et propose une sélection riche et variée de courts-métrages de fiction et d’animation sur le thème de l’art en général et du musée en particulier.
URL:https://lezard.org/event/les-courts-de-lezard-special-musee/
LOCATION:Musée Unterlinden\, Place des unterlinden\, Colmar\, 68000\, France
END:VEVENT
BEGIN:VEVENT
DTSTART;TZID=Europe/Paris:20240119T190000
DTEND;TZID=Europe/Paris:20240119T233000
DTSTAMP:20260422T185613
CREATED:20231207T155452Z
LAST-MODIFIED:20231207T155954Z
UID:9022-1705690800-1705707000@lezard.org
SUMMARY:Cinéma : Soirée spéciale Kazakhe
DESCRIPTION:CINÉMA\nSOIRÉE SPÉCIALE KAZAKHE\n\nDeux longs-métrages venus du Kazakhstan\, par un réalisateur au réalisme poétique éclatant\, Adilkhan Yerzhanov. \n> 19h\nASSAUT\nRéalisateur : A. Yerzhanov\nPays : Kazakhstan\n2023 – 1h30 – VOST\n> Grand Prix et Prix de la Critique au Festival Reims Polar \n> 21h\nL’ÉDUCATION D’ADEMOKA\n\nRéalisateur : A. Yerzhanov\nPays : Kazakhstan\n2022 – 1h29 – VOST \n  \n1 film : 6€50 – 5€50 (carte Lézard) – 5€ (UHA) / 2 films : 13€ – 11€ – 10€
URL:https://lezard.org/event/cinema-soiree-kazakhe/
LOCATION:Cinéma CGR\, Place Scheurer Kestner\, Colmar\, 68000\, France
END:VEVENT
BEGIN:VEVENT
DTSTART;TZID=Europe/Paris:20231208T190000
DTEND;TZID=Europe/Paris:20231208T223000
DTSTAMP:20260422T185613
CREATED:20231016T142558Z
LAST-MODIFIED:20231016T143558Z
UID:8779-1702062000-1702074600@lezard.org
SUMMARY:Cinéma : Soirée spéciale Colombie
DESCRIPTION:CINÉMA\nSOIRÉE COLOMBIE\n> 19h\nLOS REYES DEL MUNDO\nLaura Mora\nColombie\n2023 – 1h5 1 – VOST \n> 21h15\nUN VARON\nFabiàn Hernandez\nColombie\n2023 – 1h22 – VOST\n \nTarifs :\nTarifs : 1 film 6\,50€ – 5\,50€ (carte Lézard) / 2 films 13€ – 11€ (carte Lézard)
URL:https://lezard.org/event/cinema-soiree-colombie/
LOCATION:Cinéma CGR\, Place Scheurer Kestner\, Colmar\, 68000\, France
END:VEVENT
BEGIN:VEVENT
DTSTART;TZID=Europe/Paris:20231128T200000
DTEND;TZID=Europe/Paris:20231128T223000
DTSTAMP:20260422T185613
CREATED:20231009T142325Z
LAST-MODIFIED:20231009T150557Z
UID:8700-1701201600-1701210600@lezard.org
SUMMARY:Cinéma : Soirée spéciale Patrimoine
DESCRIPTION:LETTRE D’AMOUR\nKinuyo Tanaka\nJapon\n1953 – 1h38 – VOST \n> En avant-programme\, l’association MIRA présentera une courte sélection d’archives en lien avec le film.\n> En partenariat avec Le Récit (Cycle Vous avez dit Culte)
URL:https://lezard.org/event/cinema-soiree-patrimoine/
LOCATION:Cinéma CGR\, Place Scheurer Kestner\, Colmar\, 68000\, France
END:VEVENT
BEGIN:VEVENT
DTSTART;TZID=Europe/Paris:20231027T200000
DTEND;TZID=Europe/Paris:20231027T230000
DTSTAMP:20260422T185613
CREATED:20230814T114716Z
LAST-MODIFIED:20231025T092216Z
UID:8197-1698436800-1698447600@lezard.org
SUMMARY:Les Courts de Lézard #5
DESCRIPTION:Sur le thème de la prison\, Lézard vous propose une sélection très éclectique qui aborde toutes les catégories (fiction\, animation\, documentaire) et tous les genres (comédie\, drame\, romance\, humour\, anticipation) pour tracer un portrait de l’institution pénitentiaire\, souvent source de souffrances\, d’injustice\, mais aussi source d’espoir. \nA partir de 16 ans
URL:https://lezard.org/event/les-courts-de-lezard-5/
LOCATION:Espace Lézard\, 12 route d'Ingersheim\, Colmar\, 68000
END:VEVENT
BEGIN:VEVENT
DTSTART;TZID=Europe/Paris:20231010T200000
DTEND;TZID=Europe/Paris:20231010T230000
DTSTAMP:20260422T185613
CREATED:20230925T064312Z
LAST-MODIFIED:20230925T071805Z
UID:8468-1696968000-1696978800@lezard.org
SUMMARY:Cinéma : Soirée spéciale Tibet
DESCRIPTION:THARLO\, LE BERGER TIBÉTAIN\n> Projection suivie d’un débat.  \n> En partenariat avec l’association Liberté au Tibet
URL:https://lezard.org/event/cinema-tharlo-le-berger-tibetain/
LOCATION:Cinéma CGR\, Place Scheurer Kestner\, Colmar\, 68000\, France
END:VEVENT
BEGIN:VEVENT
DTSTART;TZID=Europe/Paris:20230929T190000
DTEND;TZID=Europe/Paris:20230929T230000
DTSTAMP:20260422T185613
CREATED:20230816T131405Z
LAST-MODIFIED:20230816T131542Z
UID:8279-1696014000-1696028400@lezard.org
SUMMARY:Soirée spéciale Iran
DESCRIPTION:> 19h\nSEPT HIVERS À TÉHÉRAN\n> 21h\nCHEVALIER NOIR
URL:https://lezard.org/event/soiree-speciale-iran/
LOCATION:Cinéma CGR\, Place Scheurer Kestner\, Colmar\, 68000\, France
END:VEVENT
BEGIN:VEVENT
DTSTART;TZID=Europe/Paris:20230915T200000
DTEND;TZID=Europe/Paris:20230915T230000
DTSTAMP:20260422T185613
CREATED:20230814T085801Z
LAST-MODIFIED:20230814T120218Z
UID:8182-1694808000-1694818800@lezard.org
SUMMARY:Les Courts de Lézard #4
DESCRIPTION:Pour cette première de la saison\, l’équipe de cinéphiles de l’association vous a concocté une sélection du meilleur des courts-métrages d’animation !
URL:https://lezard.org/event/les-courts-de-lezard-4/
LOCATION:Espace Lézard\, 12 route d'Ingersheim\, Colmar\, 68000
END:VEVENT
BEGIN:VEVENT
DTSTART;TZID=Europe/Paris:20230505T190000
DTEND;TZID=Europe/Paris:20230505T230000
DTSTAMP:20260422T185613
CREATED:20230419T125223Z
LAST-MODIFIED:20230424T130920Z
UID:6972-1683313200-1683327600@lezard.org
SUMMARY:Soirée spéciale Roumanie
DESCRIPTION:  \n \n  \nSOIRÉE CINÉMA\nSPÉCIALE ROUMANIE \n– \nRMN\n> 19h\nCristian Mungiu\nRoumanie\n2022 – 2h05 – VOST \n– \nRADIOMETRONOM\n> 21h30\nAlexandru Belc\nRoumanie\n2022 – 1h42 – VOST
URL:https://lezard.org/event/soiree-speciale-roumanie/
LOCATION:Cinéma CGR\, Place Scheurer Kestner\, Colmar\, 68000\, France
END:VEVENT
BEGIN:VEVENT
DTSTART;TZID=Europe/Paris:20230406T210000
DTEND;TZID=Europe/Paris:20230406T223000
DTSTAMP:20260422T185613
CREATED:20230403T093623Z
LAST-MODIFIED:20230403T093836Z
UID:6891-1680814800-1680820200@lezard.org
SUMMARY:Cinéma - Soirée Queer Orientale - Joyland
DESCRIPTION:  \nUN VISA POUR LA LIBERTÉ : \nJOYLAND  \nÀ travers ces portraits retentit un appel à la liberté\, la vérité\, la sensibilité\, trois mots portés haut par ce film superbement mis en scène. \n> Prix du Jury Un certain Regard et Queer Palm à Cannes 2022
URL:https://lezard.org/event/cinema-soiree-queer-orientale-joyland/
LOCATION:Cinéma CGR\, Place Scheurer Kestner\, Colmar\, 68000\, France
END:VEVENT
BEGIN:VEVENT
DTSTART;TZID=Europe/Paris:20230406T190000
DTEND;TZID=Europe/Paris:20230406T203000
DTSTAMP:20260422T185613
CREATED:20230403T093611Z
LAST-MODIFIED:20230403T093611Z
UID:6889-1680807600-1680813000@lezard.org
SUMMARY:Cinéma - Soirée Queer Orientale - Mr Gay Syria
DESCRIPTION:  \nUN VISA POUR LA LIBERTÉ : \nMR GAY SYRIA  \nCe documentaire recèle une galerie de portraits bouleversants d’hommes en lutte qui partagent leur découragement\, leur grande solitude et surtout leur force lumineuse.
URL:https://lezard.org/event/cinema-soiree-queer-orientale-mr-gay-syria/
LOCATION:Cinéma CGR\, Place Scheurer Kestner\, Colmar\, 68000\, France
END:VEVENT
BEGIN:VEVENT
DTSTART;TZID=Europe/Paris:20230328T200000
DTEND;TZID=Europe/Paris:20230328T220000
DTSTAMP:20260422T185613
CREATED:20230303T103103Z
LAST-MODIFIED:20230303T104127Z
UID:6710-1680033600-1680040800@lezard.org
SUMMARY:Soirée-débat : La (très) grande évasion
DESCRIPTION:  \n\n \n  \nSOIRÉE-DÉBAT  LA (TRÈS) GRANDE ÉVASION \nMardi 28 mars au CGR de Colmar \nLe capitalisme est-il devenu incontrôlable ? Alors que les multinationales et les plus riches ont de moins en moins de scrupules et de plus en plus de moyens à leur disposition pour échapper à l’impôt\, pour nous simples citoyens\, les politiques d’austérité et les inégalités explosent. \nSéance suivie d’un débat avec la députée Charlotte Leduc\, rapporteure sur l’évasion fiscale à l’Assemblée Nationale
URL:https://lezard.org/event/cinema-debat-la-tres-grande-evasion/
LOCATION:Cinéma CGR\, Place Scheurer Kestner\, Colmar\, 68000\, France
END:VEVENT
BEGIN:VEVENT
DTSTART;TZID=Europe/Paris:20230307T200000
DTEND;TZID=Europe/Paris:20230307T213000
DTSTAMP:20260422T185613
CREATED:20230215T133224Z
LAST-MODIFIED:20230217T102817Z
UID:6575-1678219200-1678224600@lezard.org
SUMMARY:Cinéma - Soirée rencontre : Ultraviolette et le gang des cracheuses de sang
DESCRIPTION:  \nCINÉMA SOIRÉE RENCONTRE ULTRAVIOLETTE ET LE GANG DES CRACHEUSES DE SANG \nMardi 7 mars au CGR de Colmar \n> 20hFrance / 2022 / 1h14Documentaire
URL:https://lezard.org/event/cinema-ultraviolette/
LOCATION:Cinéma CGR\, Place Scheurer Kestner\, Colmar\, 68000\, France
END:VEVENT
BEGIN:VEVENT
DTSTART;TZID=Europe/Paris:20230224T190000
DTEND;TZID=Europe/Paris:20230224T230000
DTSTAMP:20260422T185613
CREATED:20230201T102416Z
LAST-MODIFIED:20230201T102937Z
UID:6521-1677265200-1677279600@lezard.org
SUMMARY:Cinéma - Soirée thématique : Chroniques baltes
DESCRIPTION:  \n\n \n  \nCINÉMA SOIRÉE THÉMATIQUE CHRONIQUES BALTES \nVendredi 24 février au CGR de Colmar \n  \nWalden> 19hBojena HorackavaLituanie2022 – 1h25 – VOST \n  \nMy Favorite war> 21h15Ilze Burkovska JacobsenLettonie2020 – 1h20 – VOST
URL:https://lezard.org/event/cinema-chroniques-baltes/
LOCATION:Cinéma CGR\, Place Scheurer Kestner\, Colmar\, 68000\, France
END:VEVENT
BEGIN:VEVENT
DTSTART;TZID=Europe/Paris:20230127T190000
DTEND;TZID=Europe/Paris:20230127T230000
DTSTAMP:20260422T185613
CREATED:20230109T095242Z
LAST-MODIFIED:20230109T101844Z
UID:6315-1674846000-1674860400@lezard.org
SUMMARY:Cinéma - Soirée thématique : Slava Ukraina
DESCRIPTION:  \n\n \n  \nCINÉMA SOIRÉE THÉMATIQUE SLAVA UKRAINA \nLe 27 janvier au CGR de Colmar \n  \n107 Mothers> 19hPéter KerekesUkraine2022 – 1h33 – VOST \n  \nLe serment de Pamfir> 21h15Dmytro Sukholytkyy-SobchukUkraine2022 – 1h42 – VOST
URL:https://lezard.org/event/cinema-slava-ukraina/
LOCATION:Cinéma CGR\, Place Scheurer Kestner\, Colmar\, 68000\, France
END:VEVENT
BEGIN:VEVENT
DTSTART;TZID=Europe/Paris:20230118T080000
DTEND;TZID=Europe/Paris:20230124T180000
DTSTAMP:20260422T185613
CREATED:20221220T190851Z
LAST-MODIFIED:20230102T211327Z
UID:6251-1674028800-1674583200@lezard.org
SUMMARY:Cinéma - festival Télérama
DESCRIPTION:  \nCINÉMA FESTIVAL TÉLÉRAMA \nDu 18 au 24 janvier CGR Colmar  \nUne sélection des meilleurs films de l’année 2022 « Le Festival Cinéma Télérama\, unique par sa dimension nationale\, est devenu\, au fil des ans\, un événement important du début d’année\, permettant une nouvelle exposition d’envergure pour des films d’auteur de l’année écoulée »\, déclare l’AFCAE en soulignant le tarif « toujours très attractif » de la manifestation.
URL:https://lezard.org/event/cinema-festival-telerama/
LOCATION:Cinéma CGR\, Place Scheurer Kestner\, Colmar\, 68000\, France
END:VEVENT
BEGIN:VEVENT
DTSTART;TZID=Europe/Paris:20221209T190000
DTEND;TZID=Europe/Paris:20221209T230000
DTSTAMP:20260422T185613
CREATED:20221117T132435Z
LAST-MODIFIED:20221117T132435Z
UID:6095-1670612400-1670626800@lezard.org
SUMMARY:Soirée thématique cinéma - Femmes des Balkans
DESCRIPTION:SOIRÉE THÉMATIQUE CINÉMA\nFEMMES DES BALKANS\n WOMEN DO CRY\nVendredi 9/12 à 19h\n \nBulgarie / 2022 / 1h47 \n– \nLA RUCHE\nVendredi 9/12 à 21h15\n \nKossovo / 2022 / 1h23 \n– \nAu CGR Colmar\nFilm en VOST / Tarifs 2 films : 12€ – 10€* / 1 film : 6\,50€ – 5€* \n* carte Lézard \nProjections suivies d’un débat
URL:https://lezard.org/event/soiree-thematique-cinema-femmes-des-balkans/
LOCATION:Cinéma CGR\, Place Scheurer Kestner\, Colmar\, 68000\, France
END:VEVENT
BEGIN:VEVENT
DTSTART;TZID=Europe/Paris:20221124T200000
DTEND;TZID=Europe/Paris:20221124T223000
DTSTAMP:20260422T185613
CREATED:20221114T185636Z
LAST-MODIFIED:20221114T194651Z
UID:6063-1669320000-1669329000@lezard.org
SUMMARY:Soirée spéciale cinéma - Der Waldmacher
DESCRIPTION:SOIRÉE SPÉCIALE CINÉMA\nDER WALDMACHER\nFESTIVAL AUGENBLICK\nJeudi 24/11 à 20h \nAllemagne / 2021 / 1h33 \nAu CGR en partenariat avec LÉZARD\nFilm en VOST / tarif unique 5€ \nProjection suivie d’un débat avec Dominique Haegelen\, président de l’AFDI Alsace
URL:https://lezard.org/event/der-waldmacher-festival-augenblick/
LOCATION:Cinéma CGR\, Place Scheurer Kestner\, Colmar\, 68000\, France
END:VEVENT
BEGIN:VEVENT
DTSTART;TZID=Europe/Paris:20221108T110000
DTEND;TZID=Europe/Paris:20221125T220000
DTSTAMP:20260422T185613
CREATED:20221024T095915Z
LAST-MODIFIED:20230109T095207Z
UID:5347-1667905200-1669413600@lezard.org
SUMMARY:Festival Augenblick - 18ème édition du Festival Germanophone
DESCRIPTION:18ÈME ÉDITION DU FESTIVAL GERMANOPHONE AUGENBLICK \nDu 8 novembre au 25 novembre 2022\nDans les cinémas indépendants d’Alsace \nAu CGR en partenariat avec LÉZARD\nTous les films en VOST / tarif unique 5€
URL:https://lezard.org/event/festival-augenblick-2022/
LOCATION:Cinéma CGR\, Place Scheurer Kestner\, Colmar\, 68000\, France
END:VEVENT
BEGIN:VEVENT
DTSTART;TZID=Europe/Paris:20221021T200000
DTEND;TZID=Europe/Paris:20221021T213000
DTSTAMP:20260422T185613
CREATED:20220926T095251Z
LAST-MODIFIED:20220926T134357Z
UID:5069-1666382400-1666387800@lezard.org
SUMMARY:Cinéma - Courts métrages : Les Courts de Lézard #1
DESCRIPTION:  \nCINÉMA – COURTS MÉTRAGES : LES COURTS DE LÉZARD\nOuverture des portes à 20h\n21 octobre à 20h : Espace Lézard – 1 place Scheurer Kestner\, 68000 Colmar \nTarifs : 7€ / 5€* \n* Tarif réduit : membres Lézard\, Hiéro\, Comédie de Colmar\, Salle Europe\, L’Évasion\, IRCOS\, GAS\, ASPAD68\, Amicale HCC\, demandeurs d’emploi
URL:https://lezard.org/event/cinema-courts-metrages-les-courts-de-lezard/
LOCATION:Espace Lézard\, 12 route d'Ingersheim\, Colmar\, 68000
END:VEVENT
BEGIN:VEVENT
DTSTART;TZID=Europe/Paris:20221018T190000
DTEND;TZID=Europe/Paris:20221018T203000
DTSTAMP:20260422T185613
CREATED:20220926T093514Z
LAST-MODIFIED:20220926T123406Z
UID:5062-1666119600-1666125000@lezard.org
SUMMARY:Ciné-débat : Retour à Reims (Fragments)
DESCRIPTION:CINÉ-DÉBAT : RETOUR À REIMS (FRAGMENTS) – Jean-Gabriel Périot\nDocumentaire – France – 2022 – 1h23 \n18 octobre à 20h : Cinéma CGR Colmar – 1 place Scheurer Kestner\, 68000 Colmar \nTarifs : 6€50 / 5€* \n* Tarif réduit : membres Lézard\, Hiéro\, Comédie de Colmar\, Salle Europe\, L’Évasion\, IRCOS\, GAS\, ASPAD68\, Amicale HCC\, demandeurs d’emploi
URL:https://lezard.org/event/cine-debat-retour-a-reims/
LOCATION:Cinéma CGR\, Place Scheurer Kestner\, Colmar\, 68000\, France
END:VEVENT
BEGIN:VEVENT
DTSTART;TZID=Europe/Paris:20180601T190000
DTEND;TZID=Europe/Paris:20180601T230000
DTSTAMP:20260422T185613
CREATED:20180509T144826Z
LAST-MODIFIED:20180509T144826Z
UID:520-1527879600-1527894000@lezard.org
SUMMARY:Soirée ciné-thématique : C'EST MON GENRE !
DESCRIPTION:  \n19h FINDING PHONG\nTran Phuong et Swann Dubus\, Vietnam\, 2018\, 1h30 VOST \nLe changement de sexe sans voyeurisme. Dans ce documentaire\, tourné au Vietnam\, la spontanéité séduit de bout en bout. Les réalisateurs rendent constamment justice au bel élan de Phong\, qui trouve sa voie avec autant de détermination que de légèreté. \n21h THELMA\nJoachim Trier\, Norvège\, 2017\, 1h56 VOST \nThelma a quitté la maison familiale pour venir étudier à l’université d’Oslo. Elle y tombe amoureuse sans se l’avouer d’une amie étudiante en même temps qu’elle est frappé d’un mal étrange. Le désir refoulé\, le climat tout à la fois ouaté et inquiétant\, l’apparition d’un pouvoir potentiellement dangereux de l’héroïne et la mise en scène talentueuse de Joachim Trier réserve des séquences éclatantes et des moments d’extrême sensualité qui font rimer tension avec pure harmonie. \nCinéma Le Colisée\nPause à 20h30\n2 films : 10€\, 9€\n1 film : 6\,30€\, 5€
URL:https://lezard.org/event/soiree-cine-thematique-cest-mon-genre/
LOCATION:Cinéma Le Colisée\, 19 rue du rempart\, Colmar\, 68000\, France
END:VEVENT
BEGIN:VEVENT
DTSTART;TZID=Europe/Paris:20180511T190000
DTEND;TZID=Europe/Paris:20180511T233000
DTSTAMP:20260422T185613
CREATED:20180504T152403Z
LAST-MODIFIED:20180504T152403Z
UID:494-1526065200-1526081400@lezard.org
SUMMARY:Soirée ciné-thématique : INCH'ALLAH L’ALGÉRIE
DESCRIPTION:19h ENQUÊTE AU PARADIS\nMerzak Allouache\, France-Algérie\, 2018\, 2h15 \nUne jeune journaliste enquête sur ce « paradis » qu’agitent les prédicateurs salafistes du Maghreb et du Moyen-Orient. A travers les propos de citoyens anonymes et d’intellectuels\, elle interroge la prégnance de cette croyance dans la population. Avec une redoutable efficacité non dénuée d’humour\, elle déconstruit le discours salafiste et dresse un état des lieux de la société algérienne\, qui semble sans projet\, mais qui résiste encore. \n21h45 LES BIENHEUREUX\nSofia Djama\, Algérie-France\, 2017\, 1h42 \nUn couple d’intellectuels s’apprête à aller au restaurant fêter leur vingtième anniversaire de mariage. Leur fils et ses amis font la fête au fin fond de la ville\, à l’intérieur d’une cave underground. De la fin de la journée jusqu’au bout d’une nuit émaillée d’euphorie et de déconvenue\, le film suit en alternance tous ces personnages et livre une chronique élégante\, où la tension s’amplifie\, dans une ville\, Alger\, sensuelle\, chaotique et oppressante. Un premier film courageux et fortement autobiographique\, qui met à jour les blessures laissées par la guerre civile. \nCinéma Le Colisée\nPause à 21h15\n2 films : 10€\, 9€\n1 film : 6\,30€\, 5€
URL:https://lezard.org/event/soiree-cine-thematique-inchallah-lalgerie/
LOCATION:Cinéma Le Colisée\, 19 rue du rempart\, Colmar\, 68000\, France
END:VEVENT
END:VCALENDAR