BEGIN:VCALENDAR
VERSION:2.0
PRODID:-// - ECPv6.15.20//NONSGML v1.0//EN
CALSCALE:GREGORIAN
METHOD:PUBLISH
X-ORIGINAL-URL:https://lezard.org
X-WR-CALDESC:Évènements pour 
REFRESH-INTERVAL;VALUE=DURATION:PT1H
X-Robots-Tag:noindex
X-PUBLISHED-TTL:PT1H
BEGIN:VTIMEZONE
TZID:Europe/Paris
BEGIN:DAYLIGHT
TZOFFSETFROM:+0100
TZOFFSETTO:+0200
TZNAME:CEST
DTSTART:20230326T010000
END:DAYLIGHT
BEGIN:STANDARD
TZOFFSETFROM:+0200
TZOFFSETTO:+0100
TZNAME:CET
DTSTART:20231029T010000
END:STANDARD
BEGIN:DAYLIGHT
TZOFFSETFROM:+0100
TZOFFSETTO:+0200
TZNAME:CEST
DTSTART:20240331T010000
END:DAYLIGHT
BEGIN:STANDARD
TZOFFSETFROM:+0200
TZOFFSETTO:+0100
TZNAME:CET
DTSTART:20241027T010000
END:STANDARD
BEGIN:DAYLIGHT
TZOFFSETFROM:+0100
TZOFFSETTO:+0200
TZNAME:CEST
DTSTART:20250330T010000
END:DAYLIGHT
BEGIN:STANDARD
TZOFFSETFROM:+0200
TZOFFSETTO:+0100
TZNAME:CET
DTSTART:20251026T010000
END:STANDARD
END:VTIMEZONE
BEGIN:VEVENT
DTSTART;TZID=Europe/Paris:20241203T200000
DTEND;TZID=Europe/Paris:20241203T233000
DTSTAMP:20260425T144505
CREATED:20240926T073430Z
LAST-MODIFIED:20240926T073700Z
UID:9937-1733256000-1733268600@lezard.org
SUMMARY:Cinéma : Soirée Cimade
DESCRIPTION:SOIRÉE DÉBAT : \n\n\n\n\n\n\nCIMADE\n  \n\n\n\n\n\n\nMardi 03 décembre 2024\n> CGR de Colmar \n  \n> 20h\nMÊME SI TU VAS SUR LA LUNE\nRéalisateur : Laurent Rodriguez\n1h33 – 2024 \nSara\, Hasan\, Ghaith et Khairy ont une vingtaine d’années et sont étudiants à Paris. Arrivés de Syrie\, il y a six ans\, ils ont le statut de réfugiés. Dans la maison de campagne de leur ami et professeur à l’Université Paris 1\, Emmanuel\, ils se souviennent de leur vie d’avant\, du voyage et des débuts de leur nouvelle vie en France. Sont-ils toujours ceux qu’ils étaient en Syrie ou se sont-ils réinventés avec l’exil ? \n> La projection sera suivie d’un échange. \nEn partenariat avec le CGR de Colmar et la CIMADE\nSoirée organisée dans le cadre de Migrant’scène. \n  \n 
URL:https://lezard.org/event/cinema-soiree-cimade/
LOCATION:Cinéma CGR\, Place Scheurer Kestner\, Colmar\, 68000\, France
END:VEVENT
BEGIN:VEVENT
DTSTART;TZID=Europe/Paris:20241213T200000
DTEND;TZID=Europe/Paris:20241213T233000
DTSTAMP:20260425T144505
CREATED:20240926T073724Z
LAST-MODIFIED:20240926T074540Z
UID:9942-1734120000-1734132600@lezard.org
SUMMARY:Cinéma : Les Courts de Lézard #9
DESCRIPTION:CINÉMA : LES COURTS DE LÉZARD #9 \n\n\n\n\n\n\n  \n\n\n\n\n\n\nVendredi 13 décembre 2024\n> Espace Lézard \n  \n> 20h\nLES COURTS DES GRAND·E·S\nBeaucoup de cinéastes ont fait leurs premiers pas dans le court métrage\, préfigurant ainsi leurs réalisation futures. Notre sélection vous propose de découvrir les débuts de réalisateurs et réalisatrices qui marqueront le cinéma de leur empreinte thématique et esthétique. Un programme riche et varié\, avec des auteur et autrices qui ne sont pas à court d’inspiration ! \n  \n 
URL:https://lezard.org/event/cinema-courts-lezard-9/
LOCATION:Espace Lézard\, 12 route d'Ingersheim\, Colmar\, 68000
END:VEVENT
END:VCALENDAR