BEGIN:VCALENDAR
VERSION:2.0
PRODID:-// - ECPv6.15.20//NONSGML v1.0//EN
CALSCALE:GREGORIAN
METHOD:PUBLISH
X-ORIGINAL-URL:https://lezard.org
X-WR-CALDESC:Évènements pour 
REFRESH-INTERVAL;VALUE=DURATION:PT1H
X-Robots-Tag:noindex
X-PUBLISHED-TTL:PT1H
BEGIN:VTIMEZONE
TZID:Europe/Paris
BEGIN:DAYLIGHT
TZOFFSETFROM:+0100
TZOFFSETTO:+0200
TZNAME:CEST
DTSTART:20230326T010000
END:DAYLIGHT
BEGIN:STANDARD
TZOFFSETFROM:+0200
TZOFFSETTO:+0100
TZNAME:CET
DTSTART:20231029T010000
END:STANDARD
BEGIN:DAYLIGHT
TZOFFSETFROM:+0100
TZOFFSETTO:+0200
TZNAME:CEST
DTSTART:20240331T010000
END:DAYLIGHT
BEGIN:STANDARD
TZOFFSETFROM:+0200
TZOFFSETTO:+0100
TZNAME:CET
DTSTART:20241027T010000
END:STANDARD
BEGIN:DAYLIGHT
TZOFFSETFROM:+0100
TZOFFSETTO:+0200
TZNAME:CEST
DTSTART:20250330T010000
END:DAYLIGHT
BEGIN:STANDARD
TZOFFSETFROM:+0200
TZOFFSETTO:+0100
TZNAME:CET
DTSTART:20251026T010000
END:STANDARD
END:VTIMEZONE
BEGIN:VEVENT
DTSTART;TZID=Europe/Paris:20240607T200000
DTEND;TZID=Europe/Paris:20240607T223000
DTSTAMP:20260425T234128
CREATED:20240521T080033Z
LAST-MODIFIED:20240521T081911Z
UID:9555-1717790400-1717799400@lezard.org
SUMMARY:Les courts de Lézard : Le best of du court
DESCRIPTION:Vendredi 07 juin 2024 à 20h à l’Espace Lézard – Colmar\n\n\n\n\n\n\n\n\n\n\nCette 8ème édition sera consacrée aux courts-métrages sélectionnés et/ou primés en 2024 aux César et au Festival du Court Métrage de Clermont-Ferrand.\nFiction\, documentaire\, animation\, toute la diversité et la richesse de ce format court qui en dit long. \n\n\n\n\n\n\nOuverture des portes à 19h30\nProjection à 20h \nBuvette sur place\n \nTarifs :\n– Entrée libre pour les membres de Lézard et de la Société Schongauer\n– 5€ pour les non membres
URL:https://lezard.org/event/les-courts-de-lezard-best-of-court/
LOCATION:Espace Lézard\, 12 route d'Ingersheim\, Colmar\, 68000
END:VEVENT
END:VCALENDAR