BEGIN:VCALENDAR
VERSION:2.0
PRODID:-// - ECPv6.15.20//NONSGML v1.0//EN
CALSCALE:GREGORIAN
METHOD:PUBLISH
X-ORIGINAL-URL:https://lezard.org
X-WR-CALDESC:Évènements pour 
REFRESH-INTERVAL;VALUE=DURATION:PT1H
X-Robots-Tag:noindex
X-PUBLISHED-TTL:PT1H
BEGIN:VTIMEZONE
TZID:Europe/Paris
BEGIN:DAYLIGHT
TZOFFSETFROM:+0100
TZOFFSETTO:+0200
TZNAME:CEST
DTSTART:20230326T010000
END:DAYLIGHT
BEGIN:STANDARD
TZOFFSETFROM:+0200
TZOFFSETTO:+0100
TZNAME:CET
DTSTART:20231029T010000
END:STANDARD
BEGIN:DAYLIGHT
TZOFFSETFROM:+0100
TZOFFSETTO:+0200
TZNAME:CEST
DTSTART:20240331T010000
END:DAYLIGHT
BEGIN:STANDARD
TZOFFSETFROM:+0200
TZOFFSETTO:+0100
TZNAME:CET
DTSTART:20241027T010000
END:STANDARD
BEGIN:DAYLIGHT
TZOFFSETFROM:+0100
TZOFFSETTO:+0200
TZNAME:CEST
DTSTART:20250330T010000
END:DAYLIGHT
BEGIN:STANDARD
TZOFFSETFROM:+0200
TZOFFSETTO:+0100
TZNAME:CET
DTSTART:20251026T010000
END:STANDARD
END:VTIMEZONE
BEGIN:VEVENT
DTSTART;TZID=Europe/Paris:20240620T000000
DTEND;TZID=Europe/Paris:20240704T235900
DTSTAMP:20260425T162005
CREATED:20240606T074843Z
LAST-MODIFIED:20240606T075421Z
UID:9611-1718841600-1720137540@lezard.org
SUMMARY:Exposition Fenêtres #7
DESCRIPTION:  \n\n\n\n\nEXPOSITION\nFENETRES #7\n\n\n\n\n\n\n\nDu jeudi 20 juin au jeudi 04 juillet 2024\n \n> Espace Lézard\n> Entrée libre\n> Visite de groupe sur RDV\, réservation à l’adresse mediation@lezard.org \nUne nouvelle fenêtre s’ouvre sur les actions culturelles menées tout au long de la saison par Lézard !\nCette exposition est le produit de plus de 25 rencontres entre les publics et différent·e·s artistes.\nDu cinéma à la musique\, du milieu carcéral au médico-social\, vous pourrez y retrouver les photos et autres créations de nos ateliers menés avec nos publics sur ces neuf derniers mois.\nCette exposition permet de se questionner sur la place de chacun·e de notre société\, question souvent soulevée lors de nos ateliers : se faire une place\, trouver sa place\, changer de place… Comment se faire ou se refaire une place dans notre société ? Comment refuser la place que l’on nous donne ou nous impose ?\nÀ travers cette exposition\, Lézard vous invite à vous questionner sur votre place\, à l’imaginer\, à la réinventer\, mais aussi et surtout penser à la place de toutes les personnes qui ont participé à nos projets et ateliers. \n\n\n\n\n\n\nJeudi 20 juin\n \n> 18h30 \nVernissage de l’exposition  \n> 18h45 \nRestitution chantée du projet « Paroles de Femmes » de l’association Argile\, avec Margot Weité \n 
URL:https://lezard.org/event/exposition-fenetres-7/
LOCATION:Espace Lézard\, 12 route d'Ingersheim\, Colmar\, 68000
END:VEVENT
END:VCALENDAR