BEGIN:VCALENDAR
VERSION:2.0
PRODID:-// - ECPv6.15.20//NONSGML v1.0//EN
CALSCALE:GREGORIAN
METHOD:PUBLISH
X-ORIGINAL-URL:https://lezard.org
X-WR-CALDESC:Évènements pour 
REFRESH-INTERVAL;VALUE=DURATION:PT1H
X-Robots-Tag:noindex
X-PUBLISHED-TTL:PT1H
BEGIN:VTIMEZONE
TZID:Europe/Paris
BEGIN:DAYLIGHT
TZOFFSETFROM:+0100
TZOFFSETTO:+0200
TZNAME:CEST
DTSTART:20230326T010000
END:DAYLIGHT
BEGIN:STANDARD
TZOFFSETFROM:+0200
TZOFFSETTO:+0100
TZNAME:CET
DTSTART:20231029T010000
END:STANDARD
BEGIN:DAYLIGHT
TZOFFSETFROM:+0100
TZOFFSETTO:+0200
TZNAME:CEST
DTSTART:20240331T010000
END:DAYLIGHT
BEGIN:STANDARD
TZOFFSETFROM:+0200
TZOFFSETTO:+0100
TZNAME:CET
DTSTART:20241027T010000
END:STANDARD
BEGIN:DAYLIGHT
TZOFFSETFROM:+0100
TZOFFSETTO:+0200
TZNAME:CEST
DTSTART:20250330T010000
END:DAYLIGHT
BEGIN:STANDARD
TZOFFSETFROM:+0200
TZOFFSETTO:+0100
TZNAME:CET
DTSTART:20251026T010000
END:STANDARD
END:VTIMEZONE
BEGIN:VEVENT
DTSTART;TZID=Europe/Paris:20240425T190000
DTEND;TZID=Europe/Paris:20240425T200000
DTSTAMP:20260426T010723
CREATED:20240423T170015Z
LAST-MODIFIED:20240423T193218Z
UID:9500-1714071600-1714075200@lezard.org
SUMMARY:Apéro littéraire
DESCRIPTION:  \n\n\n\n\nCAFÉ LITTÉRAIRE\nLA POÉSIE À L’HONNEUR  \n\n\n\n\n\n\n\nJeudi 25 avril 2024 de 19h à 20h\n  \n \n> Espace Lézard\n> Entrée libre \nLa librairie le Chat Perché\, en partenariat avec Lézard\, lance son premier apéro littéraire le jeudi 25 avril de 19h à 20h\, à l’espace Lézard.\nC’est deux rencontres que nous vous proposons pour cette première : celle d’Andréa Thominot pour son recueil « On a peur mais ça » et de Fred Cimbao\, pour « Âge Île ».Deux poètes\, deux âmes sensibles\, deux identités\, deux styles qui vont s’ajuster pour vous faire découvrir leurs ouvrages à travers la lecture d’extraits choisis de leurs recueils. Ces lectures seront suivies d’un temps d’échanges autour d’un verre et des dédicaces.Venez découvrir ces deux fines plumes dont les mots à vifs traversés par l’enfance\, illuminent nos consciences à la lueur de leurs regards.\n Andrea Thominot écrit des poèmes quand tout le monde a le dos tourné\, au travail ou en soirée. En 2021\, il publie son premier recueil aux éditions 10 pages au carré\, J’habite désormais juste en dessous du ciel. Depuis\, il fouille\, contourne\, étire sa poésie pour faire un peu de place. De la place\, il en faut pour prendre forme\, celle que l’on veut\, celle qui nous donne le plus de chaleur – celle qui nous tient au corps. On a peur mais ça va\, publié à Cheyne éditeur\, est lauréat du Prix de la Vocation 2023.\n Fred Cimbao (Frédéric Bornancin Cimbao) naît en 1964 à Paris puis grandit à Nice. Cette ville\, la méditerranée et sa lumière le marqueront profondément. Il étudie la biologie\, attiré par les secrets de l’infiniment petit\, de l’invisible de la vie. Il exercera le métier de chercheur dans plusieurs pays européens. Il habite Colmar depuis 2008. La poésie occupe une place grandissante dans sa vie\, il a récemment publié les recueils Absences (2020)\, De la nuit des jours (2022)\, Le chant des corps (2022)\, L’enfant de cinabre (2023)\, Âge île (2024).
URL:https://lezard.org/event/apero-litteraire-avril-2024/
LOCATION:Espace Lézard\, 12 route d'Ingersheim\, Colmar\, 68000
END:VEVENT
END:VCALENDAR