BEGIN:VCALENDAR
VERSION:2.0
PRODID:-// - ECPv6.15.20//NONSGML v1.0//EN
CALSCALE:GREGORIAN
METHOD:PUBLISH
X-ORIGINAL-URL:https://lezard.org
X-WR-CALDESC:Évènements pour 
REFRESH-INTERVAL;VALUE=DURATION:PT1H
X-Robots-Tag:noindex
X-PUBLISHED-TTL:PT1H
BEGIN:VTIMEZONE
TZID:Europe/Paris
BEGIN:DAYLIGHT
TZOFFSETFROM:+0100
TZOFFSETTO:+0200
TZNAME:CEST
DTSTART:20170326T010000
END:DAYLIGHT
BEGIN:STANDARD
TZOFFSETFROM:+0200
TZOFFSETTO:+0100
TZNAME:CET
DTSTART:20171029T010000
END:STANDARD
BEGIN:DAYLIGHT
TZOFFSETFROM:+0100
TZOFFSETTO:+0200
TZNAME:CEST
DTSTART:20180325T010000
END:DAYLIGHT
BEGIN:STANDARD
TZOFFSETFROM:+0200
TZOFFSETTO:+0100
TZNAME:CET
DTSTART:20181028T010000
END:STANDARD
BEGIN:DAYLIGHT
TZOFFSETFROM:+0100
TZOFFSETTO:+0200
TZNAME:CEST
DTSTART:20190331T010000
END:DAYLIGHT
BEGIN:STANDARD
TZOFFSETFROM:+0200
TZOFFSETTO:+0100
TZNAME:CET
DTSTART:20191027T010000
END:STANDARD
BEGIN:DAYLIGHT
TZOFFSETFROM:+0100
TZOFFSETTO:+0200
TZNAME:CEST
DTSTART:20200329T010000
END:DAYLIGHT
BEGIN:STANDARD
TZOFFSETFROM:+0200
TZOFFSETTO:+0100
TZNAME:CET
DTSTART:20201025T010000
END:STANDARD
BEGIN:DAYLIGHT
TZOFFSETFROM:+0100
TZOFFSETTO:+0200
TZNAME:CEST
DTSTART:20210328T010000
END:DAYLIGHT
BEGIN:STANDARD
TZOFFSETFROM:+0200
TZOFFSETTO:+0100
TZNAME:CET
DTSTART:20211031T010000
END:STANDARD
BEGIN:DAYLIGHT
TZOFFSETFROM:+0100
TZOFFSETTO:+0200
TZNAME:CEST
DTSTART:20220327T010000
END:DAYLIGHT
BEGIN:STANDARD
TZOFFSETFROM:+0200
TZOFFSETTO:+0100
TZNAME:CET
DTSTART:20221030T010000
END:STANDARD
BEGIN:DAYLIGHT
TZOFFSETFROM:+0100
TZOFFSETTO:+0200
TZNAME:CEST
DTSTART:20230326T010000
END:DAYLIGHT
BEGIN:STANDARD
TZOFFSETFROM:+0200
TZOFFSETTO:+0100
TZNAME:CET
DTSTART:20231029T010000
END:STANDARD
BEGIN:DAYLIGHT
TZOFFSETFROM:+0100
TZOFFSETTO:+0200
TZNAME:CEST
DTSTART:20240331T010000
END:DAYLIGHT
BEGIN:STANDARD
TZOFFSETFROM:+0200
TZOFFSETTO:+0100
TZNAME:CET
DTSTART:20241027T010000
END:STANDARD
END:VTIMEZONE
BEGIN:VEVENT
DTSTART;TZID=Europe/Paris:20230622T183000
DTEND;TZID=Europe/Paris:20230706T180000
DTSTAMP:20260422T203100
CREATED:20230531T082334Z
LAST-MODIFIED:20230531T113950Z
UID:7178-1687458600-1688666400@lezard.org
SUMMARY:Exposition Fenêtres #6
DESCRIPTION:Une nouvelle fenêtre s’ouvre sur les actions culturelles menées tout au  long de la saison par Lézard !\nCette exposition est le produit de plus de 25 rencontres entre les publics et différent·e·s artistes.\nDu cinéma à la musique\, du milieu carcéral au médico-social\, vous pourrez y retrouver les photos et autres créations de nos ateliers menés avec nos publics sur ces neuf derniers mois.
URL:https://lezard.org/event/exposition-fenetres-6/
LOCATION:Espace Lézard\, 12 route d'Ingersheim\, Colmar\, 68000
END:VEVENT
BEGIN:VEVENT
DTSTART;VALUE=DATE:20230512
DTEND;VALUE=DATE:20230617
DTSTAMP:20260422T203100
CREATED:20230509T083156Z
LAST-MODIFIED:20230509T084914Z
UID:7040-1683849600-1686959999@lezard.org
SUMMARY:Exposition - Chiquet / Küng
DESCRIPTION:  \n \n\nEXPOSITION CHIQUET / KÜNG\nDEUX VOIES DIVERSES \nLes sculptures symboliques de René Küng\, créées à partir de matériaux naturels\, comme la pierre et le bois\, contrastent avec les plastiques en métal de Daniel Chiquet\, avec leurs formes claires\, précises et complexes.
URL:https://lezard.org/event/exposition-chiquet-kung/
LOCATION:Espace Lézard\, 12 route d'Ingersheim\, Colmar\, 68000
END:VEVENT
BEGIN:VEVENT
DTSTART;TZID=Europe/Paris:20230317T180000
DTEND;TZID=Europe/Paris:20230318T010000
DTSTAMP:20260422T203100
CREATED:20230224T105553Z
LAST-MODIFIED:20230315T110545Z
UID:6669-1679076000-1679101200@lezard.org
SUMMARY:Soirée Opening Night 2023 - 11ème édition
DESCRIPTION:  \nSOIRÉEOPENING NIGHT11ème ÉDITION \n  \n\n\n\nParcours festif entre lieux d’art de la cité \n\n\n\n\n\n\nExposition Lézard en cours durant la soirée Opening Night : BAIABAIE – Sandrine Stahl & Delphine Gutron \nPrésence des artistes lors de la soiréeÉvènement : concert dans la galerie à 22h30Horaires : de 18h à 1h
URL:https://lezard.org/event/opening-night-2023/
LOCATION:Espace Lézard\, 12 route d'Ingersheim\, Colmar\, 68000
END:VEVENT
BEGIN:VEVENT
DTSTART;TZID=Europe/Paris:20230310T143000
DTEND;TZID=Europe/Paris:20230418T180000
DTSTAMP:20260422T203100
CREATED:20230224T104330Z
LAST-MODIFIED:20230224T105527Z
UID:6665-1678458600-1681840800@lezard.org
SUMMARY:Exposition BAIABAIE / Sandrine Stahl & Delphine Gutron
DESCRIPTION:  \nEXPOSITIONBAIABAIESANDRINE STAHL &DELPHINE GUTRON \nDelphine Gutron et Sandrine Stahl présentent un ensemble de travaux sur papier\, réalisés à 4 mains. Cet exercice assez rare leur permet de nouvelles conjugaisons entre formes et matières\, une autre façon de travailler les harmonies. Le médium utilisé\, l’encre\, est celui de l’immédiateté car son séchage rapide nécessite un geste sûr.
URL:https://lezard.org/event/exposition-baiabaie/
LOCATION:Espace Lézard\, 12 route d'Ingersheim\, Colmar\, 68000
END:VEVENT
BEGIN:VEVENT
DTSTART;TZID=Europe/Paris:20211105T143000
DTEND;TZID=Europe/Paris:20211215T180000
DTSTAMP:20260422T203100
CREATED:20211130T143827Z
LAST-MODIFIED:20211130T144011Z
UID:3528-1636122600-1639591200@lezard.org
SUMMARY:Exposition "Vanité" - Christophe Hohler
DESCRIPTION:
URL:https://lezard.org/event/exposition-vanite-christophe-hohler/
LOCATION:Espace Lézard\, 12 route d'Ingersheim\, Colmar\, 68000
ATTACH;FMTTYPE=image/jpeg:https://lezard.org/wp-content/uploads/2021/10/IMG_6606-copie.jpg
END:VEVENT
BEGIN:VEVENT
DTSTART;TZID=Europe/Paris:20210618T143000
DTEND;TZID=Europe/Paris:20210630T173000
DTSTAMP:20260422T203100
CREATED:20210607T145444Z
LAST-MODIFIED:20210607T145444Z
UID:2992-1624026600-1625074200@lezard.org
SUMMARY:Exposition Fenêtres #4
DESCRIPTION:
URL:https://lezard.org/event/exposition-fenetres-4/
LOCATION:Espace Lézard\, 12 route d'Ingersheim\, Colmar\, 68000
END:VEVENT
BEGIN:VEVENT
DTSTART;TZID=Europe/Paris:20180527T140000
DTEND;TZID=Europe/Paris:20180527T200000
DTSTAMP:20260422T203100
CREATED:20180509T155715Z
LAST-MODIFIED:20180509T155715Z
UID:550-1527429600-1527451200@lezard.org
SUMMARY:Les Ateliers ouverts
DESCRIPTION:Accélérateurs de Particules & Lézard présentent les Ateliers ouverts.\nLe 19 & 20 mai\, puis le 26 & 27 mai de 14h à 20h à Colmar et environs les artistes de la région vous ouvrent les portes de leur atelier !\n– A Colmar : Jean-Luc Schické / Rose-Marie Crespin et ses invités : Muriel Bordier\, Fernande Petitdemange\, Marie Rameau\n– A Labaroche : Anne Werey\n– A Breitenau Neuve-Eglise : Pascal Poirot l’atelier perché\n– A Chatenois : Angelo’S – invitée Caroline Soulier \nSoirée Festive/Concert Jazz Vendredi 25 mai à 20H à l’Atelier Schické  (12 rue du Ladhof Colmar)
URL:https://lezard.org/event/les-ateliers-ouverts-4/
LOCATION:Colmar et environs
END:VEVENT
BEGIN:VEVENT
DTSTART;TZID=Europe/Paris:20180526T140000
DTEND;TZID=Europe/Paris:20180526T200000
DTSTAMP:20260422T203100
CREATED:20180509T155539Z
LAST-MODIFIED:20180509T155539Z
UID:548-1527343200-1527364800@lezard.org
SUMMARY:Les Ateliers ouverts
DESCRIPTION:Accélérateurs de Particules & Lézard présentent les Ateliers ouverts.\nLe 19 & 20 mai\, puis le 26 & 27 mai de 14h à 20h à Colmar et environs les artistes de la région vous ouvrent les portes de leur atelier !\n– A Colmar : Jean-Luc Schické / Rose-Marie Crespin et ses invités : Muriel Bordier\, Fernande Petitdemange\, Marie Rameau\n– A Labaroche : Anne Werey\n– A Breitenau Neuve-Eglise : Pascal Poirot l’atelier perché\n– A Chatenois : Angelo’S – invitée Caroline Soulier \nSoirée Festive/Concert Jazz Vendredi 25 mai à 20H à l’Atelier Schické  (12 rue du Ladhof Colmar)
URL:https://lezard.org/event/les-ateliers-ouverts-3/
LOCATION:Colmar et environs
END:VEVENT
BEGIN:VEVENT
DTSTART;TZID=Europe/Paris:20180520T140000
DTEND;TZID=Europe/Paris:20180520T200000
DTSTAMP:20260422T203100
CREATED:20180509T155142Z
LAST-MODIFIED:20180509T155142Z
UID:546-1526824800-1526846400@lezard.org
SUMMARY:Les Ateliers ouverts
DESCRIPTION:Accélérateurs de Particules & Lézard présentent les Ateliers ouverts.\nLe 19 & 20 mai\, puis le 26 & 27 mai de 14h à 20h à Colmar et environs les artistes de la région vous ouvrent les portes de leur atelier !\n– A Colmar : Jean-Luc Schické / Rose-Marie Crespin et ses invités : Muriel Bordier\, Fernande Petitdemange\, Marie Rameau\n– A Labaroche : Anne Werey\n– A Breitenau Neuve-Eglise : Pascal Poirot l’atelier perché\n– A Chatenois : Angelo’S – invitée Caroline Soulier \nSoirée Festive/Concert Jazz Vendredi 25 mai à 20H à l’Atelier Schické  (12 rue du Ladhof Colmar)
URL:https://lezard.org/event/les-ateliers-ouverts-2/
END:VEVENT
BEGIN:VEVENT
DTSTART;TZID=Europe/Paris:20180519T140000
DTEND;TZID=Europe/Paris:20180519T200000
DTSTAMP:20260422T203100
CREATED:20180509T154445Z
LAST-MODIFIED:20180509T154445Z
UID:541-1526738400-1526760000@lezard.org
SUMMARY:Les Ateliers ouverts
DESCRIPTION:Accélérateurs de Particules & Lézard présentent les Ateliers ouverts.\nLe 19 & 20 mai\, puis le 26 & 27 mai de 14h à 20h à Colmar et environs les artistes de la région vous ouvrent les portes de leur atelier !\n– A Colmar : Jean-Luc Schické / Rose-Marie Crespin et ses invités : Muriel Bordier\, Fernande Petitdemange\, Marie Rameau\n– A Labaroche : Anne Werey\n– A Breitenau Neuve-Eglise : Pascal Poirot l’atelier perché\n– A Chatenois : Angelo’S – invitée Caroline Soulier \nSoirée Festive/Concert Jazz Vendredi 25 mai à 20H à l’Atelier Schické  (12 rue du Ladhof Colmar)
URL:https://lezard.org/event/les-ateliers-ouverts/
LOCATION:Colmar et environs
END:VEVENT
END:VCALENDAR