BEGIN:VCALENDAR
VERSION:2.0
PRODID:-// - ECPv6.15.20//NONSGML v1.0//EN
CALSCALE:GREGORIAN
METHOD:PUBLISH
X-ORIGINAL-URL:https://lezard.org
X-WR-CALDESC:Évènements pour 
REFRESH-INTERVAL;VALUE=DURATION:PT1H
X-Robots-Tag:noindex
X-PUBLISHED-TTL:PT1H
BEGIN:VTIMEZONE
TZID:Europe/Paris
BEGIN:DAYLIGHT
TZOFFSETFROM:+0100
TZOFFSETTO:+0200
TZNAME:CEST
DTSTART:20240331T010000
END:DAYLIGHT
BEGIN:STANDARD
TZOFFSETFROM:+0200
TZOFFSETTO:+0100
TZNAME:CET
DTSTART:20241027T010000
END:STANDARD
BEGIN:DAYLIGHT
TZOFFSETFROM:+0100
TZOFFSETTO:+0200
TZNAME:CEST
DTSTART:20250330T010000
END:DAYLIGHT
BEGIN:STANDARD
TZOFFSETFROM:+0200
TZOFFSETTO:+0100
TZNAME:CET
DTSTART:20251026T010000
END:STANDARD
BEGIN:DAYLIGHT
TZOFFSETFROM:+0100
TZOFFSETTO:+0200
TZNAME:CEST
DTSTART:20260329T010000
END:DAYLIGHT
BEGIN:STANDARD
TZOFFSETFROM:+0200
TZOFFSETTO:+0100
TZNAME:CET
DTSTART:20261025T010000
END:STANDARD
END:VTIMEZONE
BEGIN:VEVENT
DTSTART;TZID=Europe/Paris:20250110T000000
DTEND;TZID=Europe/Paris:20250214T235900
DTSTAMP:20260423T170247
CREATED:20241201T144632Z
LAST-MODIFIED:20241201T145457Z
UID:10153-1736467200-1739577540@lezard.org
SUMMARY:Arts Visuels - Exposition - Transpeauxsition [ Yoshikazu Goulven Le Maître ]
DESCRIPTION:TRANSPEAUXSITION\nYOSHIKAZU GOULVEN LE MAITRE\n \n\n> Du vendredi 10 janvier 2025 au vendredi 14 février 2025 \n  \nL’exposition Transpeauxsition explore l’anatomie par la sculpture. Elle invite à découvrir le corps selon trois axes : squelette\, muscles et peau. Si une lecture scientique paraît évidente\, ces trois axes reflètent aussi les étapes de la réalisation d’une sculpture : les squelettes structurent\, les chairs posent les masses\, tandis que les peaux\, pelages et plumages\, enveloppent.\n \nÉVÈNEMENTS :\n> Vendredi 10.01 – 18h30  \nVernissage de l’exposition  \n  \n> Samedi 18.01 – 14h30 à 17h30 \nSéance de croquis avec Éric Nieder et “Colmar Crobar”. \nDans le cadre de l’exposition de Yoshikazu Goulven\, Lézard invite Éric Nieder et des dessinateur·ice·s du groupe urbain “Colmar Crobar” à partager une après-midi autour de réalisation de croquis.Éric Nieder\, artiste – auteur et architecteColmar Crobar\, groupe de dessinateurs urbain ou urban sketcheurs \n> Samedi 01.02 – 15h30 \nPerformance inédite de Marino Vanna. \n\nDans le cadre de l’exposition de Yoshikazu Goulven\, Lézard invite le danseur et chorégraphe strasbourgeois Marino Vanna à réaliser une performance inédite.\nA travers de multiples styles\, du hip hop au classique\, de la house dance aux traditions cambodgiennes\, l’écriture chorégraphique de Marino Vanna invite au voyage\, à l’interculturalité\, à l’ouverture au monde et aux autres.
URL:https://lezard.org/event/exposition-yoshikazu-transpeauxsition/
LOCATION:Espace Lézard\, 12 route d'Ingersheim\, Colmar\, 68000
END:VEVENT
BEGIN:VEVENT
DTSTART;TZID=Europe/Paris:20250124T203000
DTEND;TZID=Europe/Paris:20250124T235900
DTSTAMP:20260423T170247
CREATED:20241201T151544Z
LAST-MODIFIED:20250109T080400Z
UID:10186-1737750600-1737763140@lezard.org
SUMMARY:Musique - Soirée Salsa
DESCRIPTION:SOIRÉE SALSA \nGRILLEN COLMAR\n> Vendredi 24 janvier 2025 \n20h30 : LA JAWQA \n \nLa Jawqa est un groupe musical vibrant et engagé\, dédié à la célébration et à la réinvention des rythmes envoûtants de l’Amérique latine. Bien que non originaire de la côte caribéenne\, leurs mélodies puisent profondément dans les traditions musicales de cette région\, notamment celles de la Colombie\, Venezuela\, Porto Rico\, Cuba et de la République dominicaine. Spécialisée dans la salsa\, la cumbia\, le merengue et la bachata\, La Jawqa fait revivre les sons légendaires de l’époque d’or de la Fania All Stars et des groupes de Cali. Les compos de La Jawqa se distinguent par ses textes puissants\, imprégnés d’un fort engagement social. Inspirée par l’énergie et la virtuosité des maîtres de la salsa\, La Jawqa combine habilement des arrangements classiques avec une touche moderne.
URL:https://lezard.org/event/musique-soiree-salsa/
LOCATION:Le Grillen – Colmar\, 19 rue des Jardins\, COLMAR\, 68000
END:VEVENT
END:VCALENDAR