BEGIN:VCALENDAR
VERSION:2.0
PRODID:-// - ECPv6.15.20//NONSGML v1.0//EN
CALSCALE:GREGORIAN
METHOD:PUBLISH
X-ORIGINAL-URL:https://lezard.org
X-WR-CALDESC:Évènements pour 
REFRESH-INTERVAL;VALUE=DURATION:PT1H
X-Robots-Tag:noindex
X-PUBLISHED-TTL:PT1H
BEGIN:VTIMEZONE
TZID:Europe/Paris
BEGIN:DAYLIGHT
TZOFFSETFROM:+0100
TZOFFSETTO:+0200
TZNAME:CEST
DTSTART:20230326T010000
END:DAYLIGHT
BEGIN:STANDARD
TZOFFSETFROM:+0200
TZOFFSETTO:+0100
TZNAME:CET
DTSTART:20231029T010000
END:STANDARD
BEGIN:DAYLIGHT
TZOFFSETFROM:+0100
TZOFFSETTO:+0200
TZNAME:CEST
DTSTART:20240331T010000
END:DAYLIGHT
BEGIN:STANDARD
TZOFFSETFROM:+0200
TZOFFSETTO:+0100
TZNAME:CET
DTSTART:20241027T010000
END:STANDARD
BEGIN:DAYLIGHT
TZOFFSETFROM:+0100
TZOFFSETTO:+0200
TZNAME:CEST
DTSTART:20250330T010000
END:DAYLIGHT
BEGIN:STANDARD
TZOFFSETFROM:+0200
TZOFFSETTO:+0100
TZNAME:CET
DTSTART:20251026T010000
END:STANDARD
END:VTIMEZONE
BEGIN:VEVENT
DTSTART;TZID=Europe/Paris:20240920T190000
DTEND;TZID=Europe/Paris:20240920T233000
DTSTAMP:20260426T005325
CREATED:20240825T145751Z
LAST-MODIFIED:20240825T150238Z
UID:9737-1726858800-1726875000@lezard.org
SUMMARY:Cinéma : Soirée Israeliens / Palestiniens
DESCRIPTION:  \n\n\n\n\n\n\nSOIRÉE SPÉCIALE\nISRAELIENS / PALESTINIENS\n\n\n\n\n\n\nVendredi 20 septembre\n> CGR de Colmar \n \n> 19h\nYALLAH GAZA\nRéalisateur : Roland Nurier\nDistributeur : Hérisson Rebelle Production\nFrance – 1h41 – Documentaire – 2023 \nCe documentaire foisonnant et engagé\, réalisé avant le 7 octobre\, saisit le quotidien des Gazaouis enfermés dans un petit territoire régulièrement bombardé au mépris des règles du droit international. Il témoigne de la détermination de la population\, de sa résilience et de sa persévérance érigée en valeurs culturelles. Les témoignages sont mis en perspective par des analyses historiques et politiques qui apportent les éléments nécessaires à la compréhension de la situation actuelle. \n> 21h15\nLE DÉSERTEUR\nRéalisateur : Dani Rosenberg\nDistributeur : Dulac Distribution\nIsraël – 1h38 – Drame – 2024 – VOST \nJeune soldat israélien\, Shlomi\, 18 ans\, enrôlé malgré lui dans un conflit qui le dépasse\, fuit le service militaire obligatoire et le chaos de la bande de Gaza pour retrouver son amoureuse à Tel Aviv. Mais Tsahal\, persuadé qu’il a été enlevé par le Hamas\, lance des représailles sur Gaza. Tourné avant la guerre\, cette fiction séduit par sa manière bravache d’exprimer une révolte universelle\, l’aspiration à la liberté d’être soi et redit avec finesse le prix à payer dans les conflits par ceux qui sortent à peine de l’enfance. \n\n  \nEn partenariat avec le CGR de Colmar.
URL:https://lezard.org/event/cinema-soiree-israeliens-palestiniens/
LOCATION:Cinéma CGR\, Place Scheurer Kestner\, Colmar\, 68000\, France
END:VEVENT
END:VCALENDAR