BEGIN:VCALENDAR
VERSION:2.0
PRODID:-// - ECPv6.15.20//NONSGML v1.0//EN
CALSCALE:GREGORIAN
METHOD:PUBLISH
X-ORIGINAL-URL:https://lezard.org
X-WR-CALDESC:Évènements pour 
REFRESH-INTERVAL;VALUE=DURATION:PT1H
X-Robots-Tag:noindex
X-PUBLISHED-TTL:PT1H
BEGIN:VTIMEZONE
TZID:Europe/Paris
BEGIN:DAYLIGHT
TZOFFSETFROM:+0100
TZOFFSETTO:+0200
TZNAME:CEST
DTSTART:20240331T010000
END:DAYLIGHT
BEGIN:STANDARD
TZOFFSETFROM:+0200
TZOFFSETTO:+0100
TZNAME:CET
DTSTART:20241027T010000
END:STANDARD
BEGIN:DAYLIGHT
TZOFFSETFROM:+0100
TZOFFSETTO:+0200
TZNAME:CEST
DTSTART:20250330T010000
END:DAYLIGHT
BEGIN:STANDARD
TZOFFSETFROM:+0200
TZOFFSETTO:+0100
TZNAME:CET
DTSTART:20251026T010000
END:STANDARD
BEGIN:DAYLIGHT
TZOFFSETFROM:+0100
TZOFFSETTO:+0200
TZNAME:CEST
DTSTART:20260329T010000
END:DAYLIGHT
BEGIN:STANDARD
TZOFFSETFROM:+0200
TZOFFSETTO:+0100
TZNAME:CET
DTSTART:20261025T010000
END:STANDARD
BEGIN:DAYLIGHT
TZOFFSETFROM:+0100
TZOFFSETTO:+0200
TZNAME:CEST
DTSTART:20270328T010000
END:DAYLIGHT
BEGIN:STANDARD
TZOFFSETFROM:+0200
TZOFFSETTO:+0100
TZNAME:CET
DTSTART:20271031T010000
END:STANDARD
END:VTIMEZONE
BEGIN:VEVENT
DTSTART;TZID=Europe/Paris:20260410T200000
DTEND;TZID=Europe/Paris:20260410T233000
DTSTAMP:20260422T175246
CREATED:20260311T161647Z
LAST-MODIFIED:20260312T084632Z
UID:11328-1775851200-1775863800@lezard.org
SUMMARY:Pulsar : notre histoire\, notre regard
DESCRIPTION:Vendredi 10 avril 2026\nÀ 20h\n> Salle Europe \n> Entrée libre
URL:https://lezard.org/event/pulsar-notre-histoire-notre-regard/
LOCATION:Salle Europe\, 13 rue d’Amsterdam\, COLMAR\, 68000\, France
END:VEVENT
BEGIN:VEVENT
DTSTART;TZID=Europe/Paris:20260402T200000
DTEND;TZID=Europe/Paris:20260402T233000
DTSTAMP:20260422T175246
CREATED:20260312T105041Z
LAST-MODIFIED:20260312T105041Z
UID:11338-1775160000-1775172600@lezard.org
SUMMARY:Soirée Courts-Métrages Musique
DESCRIPTION:Jeudi 2 avril 2026\n> Espace Lézard\n> 20H\nTARIFS\n6€ \, 4€*\, 2€**\n* Tarif réduit : Détenteur·rice·s de la Carte Lézard\, abonné·e·s ou adhérent·e·s de nos partenaires culturels (Comédie de Colmar\, Salle de Spectacles Europe\, Fédération Hiéro)\n** Tarif spécial : Moins de 25 ans\, étudiant·e·s\, demandeur·euse·s d’emploi\, bénéficiaires des minimas sociaux\, permanent·e·s et intermittent·e·s du secteur culturel
URL:https://lezard.org/event/soiree-courts-metrages-musique/
LOCATION:Espace Lézard\, 12 route d'Ingersheim\, Colmar\, 68000
END:VEVENT
BEGIN:VEVENT
DTSTART;TZID=Europe/Paris:20260327T180000
DTEND;TZID=Europe/Paris:20260327T235900
DTSTAMP:20260422T175246
CREATED:20251211T101316Z
LAST-MODIFIED:20251211T101412Z
UID:11124-1774634400-1774655940@lezard.org
SUMMARY:Nuit de l'art contemporain - Opening night
DESCRIPTION:Vendredi 27 mars 2026\nDe 18h à 00h : Parcours festif à travers la ville – 14ème ÉDITION\n> Colmar \n> gratuit
URL:https://lezard.org/event/nuit-de-lart-contemporain-opening-night/
LOCATION:Colmar\, Colmar\, 68000\, France
END:VEVENT
BEGIN:VEVENT
DTSTART;TZID=Europe/Paris:20260313T190000
DTEND;TZID=Europe/Paris:20260313T233000
DTSTAMP:20260422T175246
CREATED:20251126T104526Z
LAST-MODIFIED:20251126T104526Z
UID:11027-1773428400-1773444600@lezard.org
SUMMARY:Soirée Géorgie
DESCRIPTION:SOIRÉE GÉORGIE\nVendredi 13 mars 2026\n> CGR de Colmar \n\n\n\n\n\n\n> 19h\nIMAGO\nRéalisateur : Déni Oumar Pitsaev\nFrance/Belgique – 2025 – 1h48 – VOST \n\n> 21h15\nPANOPTICON\nRéalisateur : Georges Sikharulidze\nGéorgie – 2025 – 1h35 – VOST \n  \n\nTarifs : \n1 film : 5€50 (Carte Lézard) \n2 films : 11€ (Carte Lézard) \nSans Carte Lézard\, les tarifs sont disponibles sur le site https://www.cgrcinemas.fr/
URL:https://lezard.org/event/soiree-georgie/
LOCATION:Cinéma CGR\, Place Scheurer Kestner\, Colmar\, 68000\, France
END:VEVENT
BEGIN:VEVENT
DTSTART;TZID=Europe/Paris:20260306T200000
DTEND;TZID=Europe/Paris:20260306T233000
DTSTAMP:20260422T175246
CREATED:20251211T102006Z
LAST-MODIFIED:20251211T102037Z
UID:11128-1772827200-1772839800@lezard.org
SUMMARY:ISPOLIN
DESCRIPTION:Vendredi 6 mars 2026\n> Espace Lézard\n> 20H\nISPOLIN\nTARIFS\n15€ \, 12€*\, 6€**\n* Tarif réduit : Détenteur·rice·s de la Carte Lézard\, abonné·e·s ou adhérent·e·s de nos partenaires culturels (Comédie de Colmar\, Salle de Spectacles Europe\, Fédération Hiéro)\n** Tarif spécial : Moins de 25 ans\, étudiant·e·s\, demandeur·euse·s d’emploi\, bénéficiaires des minimas sociaux\, permanent·e·s et intermittent·e·s du secteur culturel
URL:https://lezard.org/event/ispolin/
LOCATION:Espace Lézard\, 12 route d'Ingersheim\, Colmar\, 68000
END:VEVENT
BEGIN:VEVENT
DTSTART;TZID=Europe/Paris:20260221T160000
DTEND;TZID=Europe/Paris:20260221T183000
DTSTAMP:20260422T175246
CREATED:20251211T100703Z
LAST-MODIFIED:20251211T100952Z
UID:11122-1771689600-1771698600@lezard.org
SUMMARY:"Amourochement" - Vivien Knuchel et Arnaud Dieterlen
DESCRIPTION:Du vendredi 20 février au vendredi 27 mars 2025\nVernissage de l’exposition vendredi 20 février à 18h30\n> Espace Lézard\n> Entrée libre\n> Visite de groupe sur RDV\, réservation à l’adresse mediation@lezard.org \n> gratuit \nSamedi 21.02 – 16h : “Amourochement” une danse improvisation de Vivien Knuchel accompagné du batteur Arnaud Dieterlen\n[Ouverture de la galerie à partir de 14h30]
URL:https://lezard.org/event/amourochement-vivien-knuchel-et-arnaud-dieterlen/
LOCATION:Espace Lézard\, 12 route d'Ingersheim\, Colmar\, 68000
END:VEVENT
BEGIN:VEVENT
DTSTART;VALUE=DATE:20260220
DTEND;VALUE=DATE:20260328
DTSTAMP:20260422T175246
CREATED:20251211T100406Z
LAST-MODIFIED:20251211T100406Z
UID:11120-1771545600-1774655999@lezard.org
SUMMARY:Couleur et mouvement - Gido Wiederkehr et Martin Bill
DESCRIPTION:Du vendredi 20 février au vendredi 27 mars 2025\nVernissage de l’exposition vendredi 20 février à 18h30\n> Espace Lézard\n> Entrée libre\n> Visite de groupe sur RDV\, réservation à l’adresse mediation@lezard.org \n> gratuit
URL:https://lezard.org/event/couleur-et-mouvement-gido-wiederkehr-et-martin-bill/
LOCATION:Espace Lézard\, 12 route d'Ingersheim\, Colmar\, 68000
END:VEVENT
BEGIN:VEVENT
DTSTART;TZID=Europe/Paris:20260214T200000
DTEND;TZID=Europe/Paris:20260214T233000
DTSTAMP:20260422T175246
CREATED:20251211T101743Z
LAST-MODIFIED:20251211T101743Z
UID:11126-1771099200-1771111800@lezard.org
SUMMARY:ELDEGEE
DESCRIPTION:Samedi 14 février 2026\n> Grillen Colmar\n\n\n\n\n\n\n> 20H\nELDEGEE\nTARIFS\n15€ \, 12€*\, 6€**\n* Tarif réduit : Détenteur·rice·s de la Carte Lézard\, abonné·e·s ou adhérent·e·s de nos partenaires culturels (Comédie de Colmar\, Salle de Spectacles Europe\, Fédération Hiéro)\n** Tarif spécial : Moins de 25 ans\, étudiant·e·s\, demandeur·euse·s d’emploi\, bénéficiaires des minimas sociaux\, permanent·e·s et intermittent·e·s du secteur culturel
URL:https://lezard.org/event/eldegee/
LOCATION:Le Grillen – Colmar\, 19 rue des Jardins\, COLMAR\, 68000
END:VEVENT
BEGIN:VEVENT
DTSTART;TZID=Europe/Paris:20260206T200000
DTEND;TZID=Europe/Paris:20260206T233000
DTSTAMP:20260422T175246
CREATED:20251211T103402Z
LAST-MODIFIED:20251211T103402Z
UID:11132-1770408000-1770420600@lezard.org
SUMMARY:Soirée rencontre - Robin Hunzinger
DESCRIPTION:Vendredi 06 février 2026\n> Espace Lézard \n\n\n\n\n\n\n> 20h\nUN TOMBEAU DE GLACE\nRéalisateur : Robin Hunzinger\nFrance/Norvège/Suède – 1h18 – 2025 \n> Projection suivie d’un temps d’échanges avec le réalisateur. \nTarif :\n8€ (Tarif plein)\n6€ (Tarif réduit)\n4€ (Tarif spécial)
URL:https://lezard.org/event/soiree-rencontre-robin-hunzinger/
LOCATION:Espace Lézard\, 12 route d'Ingersheim\, Colmar\, 68000
END:VEVENT
BEGIN:VEVENT
DTSTART;TZID=Europe/Paris:20260131T143000
DTEND;TZID=Europe/Paris:20260131T173000
DTSTAMP:20260422T175246
CREATED:20251211T095915Z
LAST-MODIFIED:20251211T095915Z
UID:11118-1769869800-1769880600@lezard.org
SUMMARY:Atelier "Viens faire ta bébête"
DESCRIPTION:Vernissage de l’exposition vendredi 09 janvier à 18h30\n> Espace Lézard\n> Entrée libre\n> Visite de groupe sur RDV\, réservation à l’adresse mediation@lezard.org \n\n\n\nVisite guidée de l’exposition suivie d’ateliers pratiques (impression\, couture à la main\, sculpture textile\, pompon\, créative textile ludique) \nSamedi 31.01 –  de 14h30 à 17h30 : « Viens faire ta bébête » – Visite guidée suivie d’un échange et d’un atelier crochet
URL:https://lezard.org/event/atelier-viens-faire-ta-bebete/
LOCATION:Espace Lézard\, 12 route d'Ingersheim\, Colmar\, 68000
END:VEVENT
BEGIN:VEVENT
DTSTART;TZID=Europe/Paris:20260130T190000
DTEND;TZID=Europe/Paris:20260130T233000
DTSTAMP:20260422T175246
CREATED:20251124T131802Z
LAST-MODIFIED:20251124T131842Z
UID:10975-1769799600-1769815800@lezard.org
SUMMARY:Soirée Égypte
DESCRIPTION:SOIRÉE ÉGYPTE\nVendredi 30 janvier 2026\n> CGR de Colmar \n\n\n\n\n\n\n> 19h\nLES FILLES DU NIL\nRéalisateur·ice·s : Nada Riyadh et Ayman El Amir\nÉgypte – 1h42 – 2025 – VOST \n> 21h15\nLES AIGLES DE LA RÉPUBLIQUE\nRéalisateur : Tarik Saleh\nSuède – 2h09 – 2025 – VOST \n\n\nTarifs :\n1 film : 5€50 (Carte Lézard)\n2 films : 11€ (Carte Lézard)\nSans Carte Lézard\, les tarifs sont disponibles sur le site https://www.cgrcinemas.fr/
URL:https://lezard.org/event/soiree-egypte/
LOCATION:Cinéma CGR\, Place Scheurer Kestner\, Colmar\, 68000\, France
END:VEVENT
BEGIN:VEVENT
DTSTART;TZID=Europe/Paris:20260113T200000
DTEND;TZID=Europe/Paris:20260113T233000
DTSTAMP:20260422T175246
CREATED:20251126T104155Z
LAST-MODIFIED:20251126T104155Z
UID:11025-1768334400-1768347000@lezard.org
SUMMARY:Soirée Ukraine
DESCRIPTION:SOIRÉE UKRAINE\nMardi 13 janvier 2026\n> CGR Colmar \nEn partenariat avec le CGR de Colmar et La Cimade \n\n\n\n\n\n\n> 20h\nPREMIÈRES CLASSES\nRéalisatrice : Kateryna Gornostai\nUkraine – 2h05 – 2025 – VOST \n\n  \nTarifs \n1 film : 5€50 (Carte Lézard) \nSans Carte Lézard\, les tarifs sont disponibles sur le site https://www.cgrcinemas.fr/
URL:https://lezard.org/event/soiree-ukraine/
LOCATION:Cinéma CGR\, Place Scheurer Kestner\, Colmar\, 68000\, France
END:VEVENT
BEGIN:VEVENT
DTSTART;TZID=Europe/Paris:20260110T143000
DTEND;TZID=Europe/Paris:20260110T173000
DTSTAMP:20260422T175246
CREATED:20251211T095722Z
LAST-MODIFIED:20251211T095722Z
UID:11114-1768055400-1768066200@lezard.org
SUMMARY:Atelier "Fabrique ta scénette"
DESCRIPTION:Réalité sur mesure – Armelle Blary\, Mathylde Bracigliano et Aurélien Finance\nDu vendredi 09 janvier 2026 au vendredi 13 février 2026\n\n\n\n\n\n\n\nVernissage de l’exposition vendredi 09 janvier à 18h30\n> Espace Lézard\n> Entrée libre\n> Visite de groupe sur RDV\, réservation à l’adresse mediation@lezard.org \n\n\n\nVisite guidée de l’exposition suivie d’ateliers pratiques (impression\, couture à la main\, sculpture textile\, pompon\, créative textile ludique) \nSamedi 10.01 – de 14h30 à 17h30 : « Fabrique ta scénette » – Visite guidée de l’exposition suivie d’ateliers pratiques (impression\, couture à la main\, sculpture textile\, pompon\, créative textile ludique)
URL:https://lezard.org/event/atelier-fabrique-ta-scenette/
LOCATION:Espace Lézard\, 12 route d'Ingersheim\, Colmar\, 68000
END:VEVENT
BEGIN:VEVENT
DTSTART;VALUE=DATE:20260109
DTEND;VALUE=DATE:20260214
DTSTAMP:20260422T175246
CREATED:20251211T094839Z
LAST-MODIFIED:20251211T100015Z
UID:11112-1767916800-1771027199@lezard.org
SUMMARY:Réalité sur mesure - Armelle Blary\, Mathylde Bracigliano et Aurélien Finance
DESCRIPTION:Du vendredi 09 janvier 2026 au vendredi 13 février 2026\nVernissage de l’exposition vendredi 09 janvier à 18h30\n> Espace Lézard\n> Entrée libre\n> Visite de groupe sur RDV\, réservation à l’adresse mediation@lezard.org \nVisite guidée de l’exposition suivie d’ateliers pratiques (impression\, couture à la main\, sculpture textile\, pompon\, créative textile ludique)
URL:https://lezard.org/event/realite-sur-mesure-armelle-blary-mathylde-bracigliano-et-aurelien-finance/
LOCATION:Espace Lézard\, 12 route d'Ingersheim\, Colmar\, 68000
END:VEVENT
BEGIN:VEVENT
DTSTART;TZID=Europe/Paris:20251206T160000
DTEND;TZID=Europe/Paris:20251206T170000
DTSTAMP:20260422T175246
CREATED:20250727T162303Z
LAST-MODIFIED:20250727T162303Z
UID:10831-1765036800-1765040400@lezard.org
SUMMARY:Performance du danseur et chorégraphe Thierry Thieu Niang
DESCRIPTION:ARTS VISUELS\nVIEUX NIANG\nOLEL MAYO\, L’ÉCHO DU FLEUVE\n\n\n\n\n\n\n\nDu vendredi 07 novembre au vendredi 12 décembre 2025\nVernissage de l’exposition vendredi 07 novembre à 18h30\n> Espace Lézard\n> Entrée libre\n> Visite de groupe sur RDV\, réservation à l’adresse mediation@lezard.org \n\n\n\n\n\n\n\nSamedi 06.12 –  16h : Performance du danseur et chorégraphe Thierry Thieu Niang
URL:https://lezard.org/event/performance-du-danseur-et-choregraphe-thierry-thieu-niang/
LOCATION:Espace Lézard\, 12 route d'Ingersheim\, Colmar\, 68000
END:VEVENT
BEGIN:VEVENT
DTSTART;TZID=Europe/Paris:20251205T190000
DTEND;TZID=Europe/Paris:20251205T233000
DTSTAMP:20260422T175246
CREATED:20250727T161953Z
LAST-MODIFIED:20250916T153649Z
UID:10825-1764961200-1764977400@lezard.org
SUMMARY:Soirée Il était une fois à l'est
DESCRIPTION:SOIRÉE IL ÉTAIT UNE FOIS À L’EST\nVendredi 05 décembre 2025\n> CGR de Colmar \n\n\n\n\n\n\n> 19h\nLIBERTATE\nRéalisateur : Tudor Giurgiu\nRoumanie – 2025 – 1h49 – VOST \n\n> 21h30\nRADIO PRAGUE\, LES ONDES DE LA RÉVOLTE\nRéalisateur : Jiří Mádl\nTchéquie – 2025 – 1h56 – VOST
URL:https://lezard.org/event/soiree-il-etait-une-fois-a-lest/
LOCATION:Cinéma CGR\, Place Scheurer Kestner\, Colmar\, 68000\, France
END:VEVENT
BEGIN:VEVENT
DTSTART;TZID=Europe/Paris:20251125T200000
DTEND;TZID=Europe/Paris:20251125T233000
DTSTAMP:20260422T175246
CREATED:20250727T161847Z
LAST-MODIFIED:20250916T153713Z
UID:10823-1764100800-1764113400@lezard.org
SUMMARY:Soirée Détention
DESCRIPTION:SOIRÉE DÉTENTION\nMardi 25 novembre 2025\n> CGR Colmar \nEn partenariat avec le CGR de Colmar \n> 20h\nLA PEINE\nRéalisateur : Cédric Gerbehaye\nFrance – 1h30 – Documentaire – 2023
URL:https://lezard.org/event/soiree-detention/
LOCATION:Cinéma CGR\, Place Scheurer Kestner\, Colmar\, 68000\, France
END:VEVENT
BEGIN:VEVENT
DTSTART;TZID=Europe/Paris:20251115T160000
DTEND;TZID=Europe/Paris:20251115T180000
DTSTAMP:20260422T175246
CREATED:20250727T162155Z
LAST-MODIFIED:20250727T162155Z
UID:10829-1763222400-1763229600@lezard.org
SUMMARY:Conférence / Débat Vieux Niang
DESCRIPTION:ARTS VISUELS\nVIEUX NIANG\nOLEL MAYO\, L’ÉCHO DU FLEUVE\n\n\n\n\n\n\n\nDu vendredi 07 novembre au vendredi 12 décembre 2025\nVernissage de l’exposition vendredi 07 novembre à 18h30\n> Espace Lézard\n> Entrée libre\n> Visite de groupe sur RDV\, réservation à l’adresse mediation@lezard.org \n\n\n\nSamedi 15.11 – 16h : Conférence / débat de Vieux Niang “De l’école de Dakar à nos jours” sur sa démarche artistique et sur la sénégalité dans l’art contemporain\n[Ouverture de la galerie à partir de 14h30]
URL:https://lezard.org/event/conference-debat-vieux-niang/
LOCATION:Espace Lézard\, 12 route d'Ingersheim\, Colmar\, 68000
END:VEVENT
BEGIN:VEVENT
DTSTART;TZID=Europe/Paris:20251114T200000
DTEND;TZID=Europe/Paris:20251114T233000
DTSTAMP:20260422T175246
CREATED:20250727T161637Z
LAST-MODIFIED:20250727T161734Z
UID:10821-1763150400-1763163000@lezard.org
SUMMARY:Bessy Gordon Quintet
DESCRIPTION:BESSY GORDON QUINTET\nVendredi 14 novembre 2025\n> Espace Lézard\n> 20h
URL:https://lezard.org/event/bessy-gordon-quintet/
LOCATION:Espace Lézard\, 12 route d'Ingersheim\, Colmar\, 68000
END:VEVENT
BEGIN:VEVENT
DTSTART;TZID=Europe/Paris:20251107T183000
DTEND;TZID=Europe/Paris:20251107T200000
DTSTAMP:20260422T175246
CREATED:20250727T162101Z
LAST-MODIFIED:20250727T162101Z
UID:10827-1762540200-1762545600@lezard.org
SUMMARY:Vernissage de l'exposition
DESCRIPTION:ARTS VISUELS\nVIEUX NIANG\n\nOLEL MAYO\, L’ÉCHO DU FLEUVE\n\n\n\n\n\n\n\nDu vendredi 07 novembre au vendredi 12 décembre 2025\nVernissage de l’exposition vendredi 07 novembre à 18h30\n> Espace Lézard\n> Entrée libre\n> Visite de groupe sur RDV\, réservation à l’adresse mediation@lezard.org
URL:https://lezard.org/event/vernissage-de-lexposition/
LOCATION:Espace Lézard\, 12 route d'Ingersheim\, Colmar\, 68000
END:VEVENT
BEGIN:VEVENT
DTSTART;VALUE=DATE:20251107
DTEND;VALUE=DATE:20251213
DTSTAMP:20260422T175246
CREATED:20250727T161528Z
LAST-MODIFIED:20250727T161528Z
UID:10819-1762473600-1765583999@lezard.org
SUMMARY:Olel Mayo\, L'écho du fleuve - Vieux Niang
DESCRIPTION:ARTS VISUELS\nVIEUX NIANG\n\n\n\n\n\n\n\nDu vendredi 07 novembre au vendredi 12 décembre 2025\nVernissage de l’exposition vendredi 07 novembre à 18h30\n> Espace Lézard\n> Entrée libre\n> Visite de groupe sur RDV\, réservation à l’adresse mediation@lezard.org
URL:https://lezard.org/event/olel-mayo-lecho-du-fleuve-vieux-niang/
LOCATION:Espace Lézard\, 12 route d'Ingersheim\, Colmar\, 68000
END:VEVENT
BEGIN:VEVENT
DTSTART;VALUE=DATE:20251104
DTEND;VALUE=DATE:20251122
DTSTAMP:20260422T175246
CREATED:20250727T161412Z
LAST-MODIFIED:20250727T161412Z
UID:10817-1762214400-1763769599@lezard.org
SUMMARY:Festival Augenblick
DESCRIPTION:
URL:https://lezard.org/event/festival-augenblick/
LOCATION:Cinéma CGR\, Place Scheurer Kestner\, Colmar\, 68000\, France
END:VEVENT
BEGIN:VEVENT
DTSTART;TZID=Europe/Paris:20251024T200000
DTEND;TZID=Europe/Paris:20251024T233000
DTSTAMP:20260422T175246
CREATED:20250727T160555Z
LAST-MODIFIED:20251016T160246Z
UID:10802-1761336000-1761348600@lezard.org
SUMMARY:Soirée Architecture
DESCRIPTION:SOIRÉE ARCHITECTURE\nVendredi 24 octobre 2025\n> CGR Colmar \nEn partenariat avec la Maison Européenne de l’Architecture et le CGR de Colmar\nSoirée organisée dans le cadre des Journées de l’Architecture \n> 20h\nE.1027\nEILEEN GRAY ET LA MAISON AU BORD DE LA MER\nRéalisateur·rice : Béatrice Minger et Christophe Schaub\nRoyaume-Uni – 1h30 – 2024 – Documentaire
URL:https://lezard.org/event/soiree-architecture-2/
LOCATION:Cinéma CGR\, Place Scheurer Kestner\, Colmar\, 68000\, France
END:VEVENT
BEGIN:VEVENT
DTSTART;TZID=Europe/Paris:20251011T160000
DTEND;TZID=Europe/Paris:20251011T170000
DTSTAMP:20260422T175246
CREATED:20250727T161127Z
LAST-MODIFIED:20250727T161153Z
UID:10814-1760198400-1760202000@lezard.org
SUMMARY:TFM : Goûter Artistique
DESCRIPTION:GOUTERS ARTISTIQUES\nLaissez-vous surprendre par un petit spectacle surprise au Pacific accompagné d’un goûter !\n[Informations et réservations : contactez notre équipe à l’adresse mediation@lezard.org] \n\n\n\n\n\n\nSamedi 11/10 (Séance tout public) \n> 16h
URL:https://lezard.org/event/tfm-gouter-artistique-2/
LOCATION:pacific\, 2A Rue de Riquewihr\, Colmar\, 68000\, France
END:VEVENT
BEGIN:VEVENT
DTSTART;TZID=Europe/Paris:20251011T143000
DTEND;TZID=Europe/Paris:20251011T180000
DTSTAMP:20260422T175246
CREATED:20250727T162554Z
LAST-MODIFIED:20250727T162554Z
UID:10837-1760193000-1760205600@lezard.org
SUMMARY:Présence de l'artiste
DESCRIPTION:ARTS VISUELS\nPASCALE DUANYER\nAU COEUR DES SILENCES\n\n\n\n\n\n\n\nDu vendredi 19 septembre au vendredi 24 octobre 2025\nVernissage de l’exposition vendredi 19 septembre à 18h30\n> Espace Lézard\n> Entrée libre\n> Visite de groupe sur RDV\, réservation à l’adresse mediation@lezard.org \n\n\n\n\n\n\n\nSamedi 11.10 –  de 14h30 à 18h : Présence de l’artiste
URL:https://lezard.org/event/presence-de-lartiste/
LOCATION:Espace Lézard\, 12 route d'Ingersheim\, Colmar\, 68000
END:VEVENT
BEGIN:VEVENT
DTSTART;VALUE=DATE:20251010
DTEND;VALUE=DATE:20251011
DTSTAMP:20260422T175246
CREATED:20250727T160958Z
LAST-MODIFIED:20250727T161244Z
UID:10809-1760054400-1760140799@lezard.org
SUMMARY:TFM : La véritable histoire de la reine des neiges - Cie On Nous Marche Sur Les Fleurs
DESCRIPTION:Vendredi 10/10 (Séances scolaires) * \n> 09h30 & 14h \n& \nVendredi 10/10  (Séance tout public) \n> 18h \n  \n  \n\n\n\n\n\n\nLA VÉRITABLE HISTOIRE DE LA REINE DES NEIGES\n– CIE ON NOUS MARCHE SUR LES FLEURS \n\n\n\n\n\n\nRosalie\, 5 ans\, vient de se coucher. Mais elle ne parvient pas à s’endormir… « Maman\, raconte moi La Reine des Neiges… La Véritable Histoire de la Reine des Neiges… » Alors la maman de Rosalie\, malgré le travail qui l’attend encore ce soir\, se lance tant bien que mal\, en s’aidant des jouets qui l’entourent\, dans l’histoire d’Andersen… Deux enfants\, Kay et Gerda\, grandissent ensemble. Ils\nne sont pas frère et sœur\, mais s’aiment autant que s’ils l’avaient été. Ils sont inséparables. Un soir d’hiver\, la grand-mère de Gerda raconte l’existence de la Reine des Neiges\, grande\, belle mais toute de glace\, et qui vient regarder par les fenêtres ce qui se passe chez les gens… Kay\, fanfaronne et provoque : « Qu’elle vienne ! Je la mettrai sur le feu et elle fondra ! ». Le soir même\, la Reine des Neiges apparaît à Kay\, qui ne tarde pas à disparaître…\nEt puis nous interroge sans brusquerie ni préjugé sur l’avenir de notre monde.
URL:https://lezard.org/event/tfm-la-veritable-histoire-de-la-reine-des-neiges-cie-on-nous-marche-sur-les-fleurs/
LOCATION:Salle de spectacle Europe\, 13 Rue d'Amsterdam\, Colmar\, 68000\, France
END:VEVENT
BEGIN:VEVENT
DTSTART;TZID=Europe/Paris:20251008T160000
DTEND;TZID=Europe/Paris:20251008T170000
DTSTAMP:20260422T175246
CREATED:20250727T161119Z
LAST-MODIFIED:20250727T161119Z
UID:10811-1759939200-1759942800@lezard.org
SUMMARY:TFM : Goûter Artistique
DESCRIPTION:GOUTERS ARTISTIQUES\nLaissez-vous surprendre par un petit spectacle surprise au Pacific accompagné d’un goûter !\n[Informations et réservations : contactez notre équipe à l’adresse mediation@lezard.org] \n\n\n\n\n\n\nMercredi 08/10 (Séance tout public) \n> 16h
URL:https://lezard.org/event/tfm-gouter-artistique/
LOCATION:pacific\, 2A Rue de Riquewihr\, Colmar\, 68000\, France
END:VEVENT
BEGIN:VEVENT
DTSTART;VALUE=DATE:20251007
DTEND;VALUE=DATE:20251012
DTSTAMP:20260422T175246
CREATED:20250727T160736Z
LAST-MODIFIED:20250727T160736Z
UID:10804-1759795200-1760227199@lezard.org
SUMMARY:Temps Fort Marionnettes
DESCRIPTION:SPECTACLE\nTEMPS FORT MARIONNETTES\n\nEn partenariat avec la Salle de Spectacles Europe et le CSC de Colmar \n\n\n\n\n\n\n\nDu mardi 07 au samedi 11 octobre 2025\nSalle de Spectacle Europe & Pacific – Colmar\n\n\n\n\n\n\nLe festival Temps Fort Marionnettes prend cette année ses quartiers à la Salle Europe et au Pacific !\nAu programme\, des spectacles jeune public autour de la marionnette et de l’objet animé. \n\n\n\n\n\n\nInfos pratiques \n> Tarif unique pour tous les spectacles : 5 €\n> Lieu : Salle de spectacles Europe – 13 rue d’Amsterdam – 68000 Colmar\n                   Pacific – 2 rue de Riquewihr – 68000 Colmar\n> Spectacles accessible aux personnes à mobilité réduites ; accessibles aux personnes malvoyantes
URL:https://lezard.org/event/temps-fort-marionnettes/
LOCATION:Colmar\, Colmar\, 68000\, France
END:VEVENT
BEGIN:VEVENT
DTSTART;VALUE=DATE:20251007
DTEND;VALUE=DATE:20251008
DTSTAMP:20260422T175246
CREATED:20250727T160853Z
LAST-MODIFIED:20250727T160853Z
UID:10807-1759795200-1759881599@lezard.org
SUMMARY:TFM : Comment Attraper une étoile - Cie Comme une Etincelle
DESCRIPTION:Mardi 07.10  (Séances scolaires) * \n> 09h / 10h30 / 14h \n\n\n\n\n\n\nCOMMENT ATTRAPER UNE ÉTOILE\n– CIE COMME UNE ÉTINCELLE \nPlongez dans l’univers onirique d’un petit garçon qui poursuit une quête extraordinaire : se lier d’amitié avec une étoile. Déterminé à sortir de sa solitude\, il déploie des trésors d’imagination et de courage pour réaliser son rêve\, mais rien n’y fait : l’étoile reste inaccessible ! Comment attraper une étoile est un spectacle pluridisciplinaire\, mêlant théâtre\, marionnette et cinéma d’animation\, librement inspiré de l’œuvre d’Oliver Jeffers. Découvrez ce poème visuel à la chute savoureuse qui ne manque pas de rappeler aux petits comme aux grands qu’il est possible de réaliser ses rêves si l’on apprend à les regarder sous un angle différent.
URL:https://lezard.org/event/tfm-comment-attraper-une-etoile-cie-comme-une-etincelle/
LOCATION:Salle de spectacle Europe\, 13 Rue d'Amsterdam\, Colmar\, 68000\, France
END:VEVENT
BEGIN:VEVENT
DTSTART;TZID=Europe/Paris:20251003T200000
DTEND;TZID=Europe/Paris:20251003T233000
DTSTAMP:20260422T175246
CREATED:20250727T160507Z
LAST-MODIFIED:20250727T160507Z
UID:10800-1759521600-1759534200@lezard.org
SUMMARY:Soirée Architecture
DESCRIPTION:SOIRÉE ARCHITECTURE\nVendredi 03 octobre 2025\n> Espace Lézard \nEn partenariat avec la Maison Européenne de l’Architecture\nSoirée organisée dans le cadre des Journées de l’Architecture \n> 20h\nPENSER L’INCERTITUDE\nRéalisateur : Christian Barani\nFrance – 1h39 – Documentaire – 2024
URL:https://lezard.org/event/soiree-architecture/
LOCATION:Espace Lézard\, 12 route d'Ingersheim\, Colmar\, 68000
END:VEVENT
END:VCALENDAR