BEGIN:VCALENDAR
VERSION:2.0
PRODID:-// - ECPv6.15.20//NONSGML v1.0//EN
CALSCALE:GREGORIAN
METHOD:PUBLISH
X-ORIGINAL-URL:https://lezard.org
X-WR-CALDESC:Évènements pour 
REFRESH-INTERVAL;VALUE=DURATION:PT1H
X-Robots-Tag:noindex
X-PUBLISHED-TTL:PT1H
BEGIN:VTIMEZONE
TZID:Europe/Paris
BEGIN:DAYLIGHT
TZOFFSETFROM:+0100
TZOFFSETTO:+0200
TZNAME:CEST
DTSTART:20240331T010000
END:DAYLIGHT
BEGIN:STANDARD
TZOFFSETFROM:+0200
TZOFFSETTO:+0100
TZNAME:CET
DTSTART:20241027T010000
END:STANDARD
BEGIN:DAYLIGHT
TZOFFSETFROM:+0100
TZOFFSETTO:+0200
TZNAME:CEST
DTSTART:20250330T010000
END:DAYLIGHT
BEGIN:STANDARD
TZOFFSETFROM:+0200
TZOFFSETTO:+0100
TZNAME:CET
DTSTART:20251026T010000
END:STANDARD
BEGIN:DAYLIGHT
TZOFFSETFROM:+0100
TZOFFSETTO:+0200
TZNAME:CEST
DTSTART:20260329T010000
END:DAYLIGHT
BEGIN:STANDARD
TZOFFSETFROM:+0200
TZOFFSETTO:+0100
TZNAME:CET
DTSTART:20261025T010000
END:STANDARD
END:VTIMEZONE
BEGIN:VEVENT
DTSTART;TZID=Europe/Paris:20250221T000000
DTEND;TZID=Europe/Paris:20250321T235900
DTSTAMP:20260423T151319
CREATED:20241201T145532Z
LAST-MODIFIED:20250131T154744Z
UID:10161-1740096000-1742601540@lezard.org
SUMMARY:Arts Visuels - Exposition - Matières à méditer [ Natacha Caland ]
DESCRIPTION:MATIÈRES À MÉDITER\nNATACHA CALAND\n> Du vendredi 21 février au vendredi 21 mars 2025 \nLes reliefs de Natacha Caland sont tactiles\, ils s’offrent à la vue et au toucher. Ses surfaces deviennent textures et progressent souvent comme un tricot : par mailles et par rangs. Peu importe les matériaux; découpés\, pliés\, courbés\, cassés puis assemblés et collés\, ils s’effacent pour devenir matières à méditer.\nCette matière\, toujours monochrome\, s’organise selon des figures géométriques simples\, faciles et identifiables.\nA l’intérieur de celles-ci\, de petits modules répétés\, sans cesse en évolution\, viennent troubler l’ensemble de la surface par un jeu de lumières et de vibrations qui perturbent la stabilité de l’ensemble. Les spectateur·ice·s en mouvement devant les œuvres sont invité·e·s à faire l’expérience de la fragilité de notre perception du monde visible. \n  \nÉVÈNEMENT :\n> Vendredi 21.03 de 18h à 00h \nPerformance musicale à l’accordéon de Zoë Schade\, dans le cadre de l’Opening Night
URL:https://lezard.org/event/exposition-caland-matieres-a-mediter/
LOCATION:Espace Lézard\, 12 route d'Ingersheim\, Colmar\, 68000
END:VEVENT
BEGIN:VEVENT
DTSTART;TZID=Europe/Paris:20250321T180000
DTEND;TZID=Europe/Paris:20250321T235900
DTSTAMP:20260423T151319
CREATED:20241201T150613Z
LAST-MODIFIED:20241201T150639Z
UID:10172-1742580000-1742601540@lezard.org
SUMMARY:Performances de Zoé Schade
DESCRIPTION:
URL:https://lezard.org/event/performances-de-zoe-schade/
LOCATION:Espace Lézard\, 12 route d'Ingersheim\, Colmar\, 68000
END:VEVENT
BEGIN:VEVENT
DTSTART;TZID=Europe/Paris:20250321T180000
DTEND;TZID=Europe/Paris:20250321T235900
DTSTAMP:20260423T151319
CREATED:20250305T162549Z
LAST-MODIFIED:20250305T162549Z
UID:10393-1742580000-1742601540@lezard.org
SUMMARY:Opening Night
DESCRIPTION:ARTS VISUELS\nOPENING NIGHT 2025\nVendredi 21 mars 2025 – 18h à 00h\n> Colmar\n> Entrée libre\nNUIT DE L’ART CONTEMPORAIN – 13ème édition\nL’Opening Night\, c’est une soirée entière dédiée à l’art contemporain dans toute la ville.\nCette année encore\, pour la 13ème édition\, vous allez pouvoir redécouvrir Colmar à travers un parcours nocturne et festif !\nAller au musée le dimanche ne vous intéresse pas\, mais vous avez soif de découvertes ?\nAlors on troc les cocktails du vendredi soir pour une paire de baskets et on part à l’aventure découvrir les différentes activités prévues par toutes les galeries colmariennes participantes.
URL:https://lezard.org/event/opening-night-2/
LOCATION:Colmar et environs
END:VEVENT
BEGIN:VEVENT
DTSTART;TZID=Europe/Paris:20250324T080000
DTEND;TZID=Europe/Paris:20250329T170000
DTSTAMP:20260423T151319
CREATED:20241201T151049Z
LAST-MODIFIED:20241201T151049Z
UID:10180-1742803200-1743267600@lezard.org
SUMMARY:Festival Senti'mental 2025
DESCRIPTION:
URL:https://lezard.org/event/festival-sentimental-2025/
LOCATION:Colmar et environs
END:VEVENT
BEGIN:VEVENT
DTSTART;TZID=Europe/Paris:20250324T180000
DTEND;TZID=Europe/Paris:20250324T193000
DTSTAMP:20260423T151319
CREATED:20241201T150838Z
LAST-MODIFIED:20241201T150936Z
UID:10178-1742839200-1742844600@lezard.org
SUMMARY:Vernissage de l'exposition - Univers Parallèles Saison 4 [Collectif Pulsar]
DESCRIPTION:
URL:https://lezard.org/event/vernissage-universparalleles-pulsar/
LOCATION:Espace Lézard\, 12 route d'Ingersheim\, Colmar\, 68000
END:VEVENT
BEGIN:VEVENT
DTSTART;TZID=Europe/Paris:20250324T180000
DTEND;TZID=Europe/Paris:20250329T235900
DTSTAMP:20260423T151319
CREATED:20241201T151105Z
LAST-MODIFIED:20250305T160903Z
UID:10182-1742839200-1743292740@lezard.org
SUMMARY:Arts Visuels - Exposition - Univers Parallèles | Saison 4 - Collectif PULSAR
DESCRIPTION:UNIVERS PARALLÈLES – SAISON 4\nCOLLECTIF PULSAR | IME-SESSAD Pays de Colmar\n> Du lundi 24 mars au samedi 29 mars 2025 \nUne exposition d’Arts Atypiques\, une collection d’Art immédiat !\nChaque touche d’aquarelle\, toute idée émergente\, le moindre croquis préparatoire permet à la création de prendre corps\, de prendre vie au sein du collectif PULSAR comprenant plus de 80 participant·e·s de l’IME\, protagonistes du collectif PULSAR. \nProjet Universel en Lien avec le Savoir\, l’Art et le Raisonnement\nPotentiel Ultime Libérant la Science Atypique Rénovatrice\,\nProgramme Unique\, Littéralement : Sagacité Artistique et Réformatrice\,\nParcours Ubique Laconique Sidérant et Approche Révolutionnaire\, … \n  \n 
URL:https://lezard.org/event/exposition-univers-paralleles-s4/
LOCATION:Espace Lézard\, 12 route d'Ingersheim\, Colmar\, 68000
END:VEVENT
BEGIN:VEVENT
DTSTART;TZID=Europe/Paris:20250325T200000
DTEND;TZID=Europe/Paris:20250325T233000
DTSTAMP:20260423T151319
CREATED:20250305T163129Z
LAST-MODIFIED:20250305T163129Z
UID:10400-1742932800-1742945400@lezard.org
SUMMARY:Cinéma : Soirée Débat Sentimental
DESCRIPTION:SOIRÉE DÉBAT : \n\n\n\n\n\n\nFESTIVAL SENTI’MENTAL\n  \n\n\n\n\n\n\nMardi 25 mars 2025\n> CGR de Colmar \n  \n> 20h\nLA MACHINE A ÉCRIRE ET AUTRES SOURCES DE TRACAS\nRéalisateur : Nicolas Philibert\n2024 – 1h12 – France  \nDans le troisième volet de son triptyque sur la médecine psychiatrique\, le documentariste suit une équipe de soignants chargés de faire de menus travaux et réparations au domicile de patients. Rapidement\, l’auscultation des objets dysfonctionnels apparait comme une occasion de cajoler les âmes esseulées. Etre présent\, à l’écoute et faire le lien\, voilà une méthode également éprouvée par Nicolas Philibert\, dont la présence discrète et empathique participe une fois de plus à élaborer un film sensible et juste. \n> La projection sera suivie d’un échange. \n 
URL:https://lezard.org/event/cinema-soiree-debat-sentimental/
LOCATION:Cinéma CGR\, Place Scheurer Kestner\, Colmar\, 68000\, France
END:VEVENT
BEGIN:VEVENT
DTSTART;TZID=Europe/Paris:20250328T200000
DTEND;TZID=Europe/Paris:20250328T233000
DTSTAMP:20260423T151319
CREATED:20250305T162837Z
LAST-MODIFIED:20250305T162837Z
UID:10396-1743192000-1743204600@lezard.org
SUMMARY:Cinéma : Soirée Courts #10
DESCRIPTION:SOIRÉE COURTS DE LÉZARD #10 \n\n\n\n\n\n\n  \n\n\n\n\n\n\nVendredi 28 mars\n> Espace Lézard \n  \n> 20h\nLES COURTS DE LÉZARD : SPÉCIAL HANDICAPS\nLes cinéphiles de l’association se mobilisent pour une programmation de courts-métrages autour du handicap mental et psychique.\nDes formats variés et des regards singuliers de réalisateurs et réalisatrices viendront nourrir les réflexions sur ce sujet. \n  \n 
URL:https://lezard.org/event/cinema-soiree-courts-10/
LOCATION:Espace Lézard\, 12 route d'Ingersheim\, Colmar\, 68000
END:VEVENT
BEGIN:VEVENT
DTSTART;TZID=Europe/Paris:20250329T163000
DTEND;TZID=Europe/Paris:20250329T183000
DTSTAMP:20260423T151319
CREATED:20250327T161846Z
LAST-MODIFIED:20250327T161846Z
UID:10550-1743265800-1743273000@lezard.org
SUMMARY:Rencontre : Restitution des ateliers menés par Fred Cimbao
DESCRIPTION:
URL:https://lezard.org/event/rencontre-restitution-des-ateliers-menes-par-fred-cimbao/
LOCATION:Espace Lézard\, 12 route d'Ingersheim\, Colmar\, 68000
END:VEVENT
END:VCALENDAR