BEGIN:VCALENDAR
VERSION:2.0
PRODID:-// - ECPv6.15.20//NONSGML v1.0//EN
CALSCALE:GREGORIAN
METHOD:PUBLISH
X-ORIGINAL-URL:https://lezard.org
X-WR-CALDESC:Évènements pour 
REFRESH-INTERVAL;VALUE=DURATION:PT1H
X-Robots-Tag:noindex
X-PUBLISHED-TTL:PT1H
BEGIN:VTIMEZONE
TZID:Europe/Paris
BEGIN:DAYLIGHT
TZOFFSETFROM:+0100
TZOFFSETTO:+0200
TZNAME:CEST
DTSTART:20240331T010000
END:DAYLIGHT
BEGIN:STANDARD
TZOFFSETFROM:+0200
TZOFFSETTO:+0100
TZNAME:CET
DTSTART:20241027T010000
END:STANDARD
BEGIN:DAYLIGHT
TZOFFSETFROM:+0100
TZOFFSETTO:+0200
TZNAME:CEST
DTSTART:20250330T010000
END:DAYLIGHT
BEGIN:STANDARD
TZOFFSETFROM:+0200
TZOFFSETTO:+0100
TZNAME:CET
DTSTART:20251026T010000
END:STANDARD
BEGIN:DAYLIGHT
TZOFFSETFROM:+0100
TZOFFSETTO:+0200
TZNAME:CEST
DTSTART:20260329T010000
END:DAYLIGHT
BEGIN:STANDARD
TZOFFSETFROM:+0200
TZOFFSETTO:+0100
TZNAME:CET
DTSTART:20261025T010000
END:STANDARD
END:VTIMEZONE
BEGIN:VEVENT
DTSTART;VALUE=DATE:20250606
DTEND;VALUE=DATE:20250609
DTSTAMP:20260423T103815
CREATED:20250327T162723Z
LAST-MODIFIED:20250327T162723Z
UID:10564-1749168000-1749427199@lezard.org
SUMMARY:Festival Musiques Métisses - 29ème édition
DESCRIPTION:
URL:https://lezard.org/event/festival-musiques-metisses-29eme-edition/
LOCATION:Cercle Saint-Martin – Colmar\, 13 avenue Joffre\, Colmar\, 68000\, France
END:VEVENT
BEGIN:VEVENT
DTSTART;VALUE=DATE:20250611
DTEND;VALUE=DATE:20250703
DTSTAMP:20260423T103815
CREATED:20250327T162834Z
LAST-MODIFIED:20250327T162834Z
UID:10566-1749600000-1751500799@lezard.org
SUMMARY:Fenêtres #8
DESCRIPTION:
URL:https://lezard.org/event/fenetres-8/
LOCATION:Espace Lézard\, 12 route d'Ingersheim\, Colmar\, 68000
END:VEVENT
BEGIN:VEVENT
DTSTART;TZID=Europe/Paris:20250611T183000
DTEND;TZID=Europe/Paris:20250611T200000
DTSTAMP:20260423T103815
CREATED:20250327T162934Z
LAST-MODIFIED:20250327T162934Z
UID:10568-1749666600-1749672000@lezard.org
SUMMARY:Vernissage Fenêtres #8
DESCRIPTION:
URL:https://lezard.org/event/vernissage-fenetres-8/
LOCATION:Espace Lézard\, 12 route d'Ingersheim\, Colmar\, 68000
END:VEVENT
BEGIN:VEVENT
DTSTART;TZID=Europe/Paris:20250620T200000
DTEND;TZID=Europe/Paris:20250620T230000
DTSTAMP:20260423T103815
CREATED:20250327T163158Z
LAST-MODIFIED:20250327T163158Z
UID:10570-1750449600-1750460400@lezard.org
SUMMARY:Cinéma : Soirée Courts
DESCRIPTION:
URL:https://lezard.org/event/cinema-soiree-courts/
LOCATION:Espace Lézard\, 12 route d'Ingersheim\, Colmar\, 68000
END:VEVENT
BEGIN:VEVENT
DTSTART;TZID=Europe/Paris:20250627T183000
DTEND;TZID=Europe/Paris:20250627T233000
DTSTAMP:20260423T103815
CREATED:20250327T163413Z
LAST-MODIFIED:20250327T163413Z
UID:10572-1751049000-1751067000@lezard.org
SUMMARY:Garden Party
DESCRIPTION:
URL:https://lezard.org/event/garden-party-5/
LOCATION:Espace Lézard\, 12 route d'Ingersheim\, Colmar\, 68000
END:VEVENT
END:VCALENDAR