BEGIN:VCALENDAR
VERSION:2.0
PRODID:-// - ECPv6.15.20//NONSGML v1.0//EN
CALSCALE:GREGORIAN
METHOD:PUBLISH
X-ORIGINAL-URL:https://lezard.org
X-WR-CALDESC:Évènements pour 
REFRESH-INTERVAL;VALUE=DURATION:PT1H
X-Robots-Tag:noindex
X-PUBLISHED-TTL:PT1H
BEGIN:VTIMEZONE
TZID:Europe/Paris
BEGIN:DAYLIGHT
TZOFFSETFROM:+0100
TZOFFSETTO:+0200
TZNAME:CEST
DTSTART:20240331T010000
END:DAYLIGHT
BEGIN:STANDARD
TZOFFSETFROM:+0200
TZOFFSETTO:+0100
TZNAME:CET
DTSTART:20241027T010000
END:STANDARD
BEGIN:DAYLIGHT
TZOFFSETFROM:+0100
TZOFFSETTO:+0200
TZNAME:CEST
DTSTART:20250330T010000
END:DAYLIGHT
BEGIN:STANDARD
TZOFFSETFROM:+0200
TZOFFSETTO:+0100
TZNAME:CET
DTSTART:20251026T010000
END:STANDARD
BEGIN:DAYLIGHT
TZOFFSETFROM:+0100
TZOFFSETTO:+0200
TZNAME:CEST
DTSTART:20260329T010000
END:DAYLIGHT
BEGIN:STANDARD
TZOFFSETFROM:+0200
TZOFFSETTO:+0100
TZNAME:CET
DTSTART:20261025T010000
END:STANDARD
END:VTIMEZONE
BEGIN:VEVENT
DTSTART;VALUE=DATE:20250905
DTEND;VALUE=DATE:20250908
DTSTAMP:20260423T021508
CREATED:20250727T155705Z
LAST-MODIFIED:20250727T155742Z
UID:10787-1757030400-1757289599@lezard.org
SUMMARY:Fête du Marché Couvert
DESCRIPTION:FETE DU MARCHÉ COUVERT\nDu vendredi 05 septembre au dimanche 07 septembre 2025\n> Marché Couvert de Colmar \nEn partenariat avec l’Association des Commerçants du Marché Couvert de Colmar
URL:https://lezard.org/event/fete-du-marche-couvert/
LOCATION:Marché Couvert de Colmar\, 13 Rue des Écoles\, Colmar\, France
END:VEVENT
BEGIN:VEVENT
DTSTART;TZID=Europe/Paris:20250905T180000
DTEND;TZID=Europe/Paris:20250905T183000
DTSTAMP:20260423T021508
CREATED:20250727T162731Z
LAST-MODIFIED:20250727T162731Z
UID:10839-1757095200-1757097000@lezard.org
SUMMARY:Une vague de chaleur dans la rue - Jumbo System
DESCRIPTION:FETE DU MARCHÉ COUVERT\nDu vendredi 05 septembre au dimanche 07 septembre 2025\n> Marché Couvert de Colmar \nEn partenariat avec l’Association des Commerçants du Marché Couvert de Colmar \nVEN 05.09.2025\n> 18h \nUNE VAGUE DE CHALEUR DANS LA RUE\nJumbo System
URL:https://lezard.org/event/une-vague-de-chaleur-dans-la-rue-jumbo-system/
LOCATION:Marché Couvert de Colmar\, 13 Rue des Écoles\, Colmar\, France
END:VEVENT
BEGIN:VEVENT
DTSTART;TZID=Europe/Paris:20250905T200000
DTEND;TZID=Europe/Paris:20250905T203000
DTSTAMP:20260423T021508
CREATED:20250727T162744Z
LAST-MODIFIED:20250727T162806Z
UID:10841-1757102400-1757104200@lezard.org
SUMMARY:Une vague de chaleur dans la rue - Jumbo System
DESCRIPTION:FETE DU MARCHÉ COUVERT\nDu vendredi 05 septembre au dimanche 07 septembre 2025\n> Marché Couvert de Colmar \nEn partenariat avec l’Association des Commerçants du Marché Couvert de Colmar \nVEN 05.09.2025\n> 20h \nUNE VAGUE DE CHALEUR DANS LA RUE\nJumbo System
URL:https://lezard.org/event/une-vague-de-chaleur-dans-la-rue-jumbo-system-2/
LOCATION:Marché Couvert de Colmar\, 13 Rue des Écoles\, Colmar\, France
END:VEVENT
BEGIN:VEVENT
DTSTART;TZID=Europe/Paris:20250906T150000
DTEND;TZID=Europe/Paris:20250906T160000
DTSTAMP:20260423T021508
CREATED:20250727T162912Z
LAST-MODIFIED:20250727T162912Z
UID:10844-1757170800-1757174400@lezard.org
SUMMARY:Bob\, transports en tout genre - Cie L'Arbre à Vache
DESCRIPTION:FETE DU MARCHÉ COUVERT\nDu vendredi 05 septembre au dimanche 07 septembre 2025\n> Marché Couvert de Colmar \nEn partenariat avec l’Association des Commerçants du Marché Couvert de Colmar \nSAM 06.09.2025\n> 15h \nBOB\, TRANSPORTS EN TOUT GENRE\nCie L’Arbre à Vache
URL:https://lezard.org/event/bob-transports-en-tout-genre-cie-larbre-a-vache/
LOCATION:Marché Couvert de Colmar\, 13 Rue des Écoles\, Colmar\, France
END:VEVENT
BEGIN:VEVENT
DTSTART;TZID=Europe/Paris:20250907T150000
DTEND;TZID=Europe/Paris:20250907T160000
DTSTAMP:20260423T021508
CREATED:20250727T163004Z
LAST-MODIFIED:20250727T163004Z
UID:10846-1757257200-1757260800@lezard.org
SUMMARY:Pas si bêêtes - Cie Les Zanimos
DESCRIPTION:FETE DU MARCHÉ COUVERT\nDu vendredi 05 septembre au dimanche 07 septembre 2025\n> Marché Couvert de Colmar \nEn partenariat avec l’Association des Commerçants du Marché Couvert de Colmar \nDIM 07.09.2025\n> 15h \nPAS SI BÊÊTES\nCie Les Zanimos
URL:https://lezard.org/event/pas-si-beetes-cie-les-zanimos/
LOCATION:Marché Couvert de Colmar\, 13 Rue des Écoles\, Colmar\, France
END:VEVENT
BEGIN:VEVENT
DTSTART;TZID=Europe/Paris:20250912T200000
DTEND;TZID=Europe/Paris:20250912T233000
DTSTAMP:20260423T021508
CREATED:20250727T160032Z
LAST-MODIFIED:20250727T160032Z
UID:10791-1757707200-1757719800@lezard.org
SUMMARY:Lancement de saison
DESCRIPTION:LANCEMENT DE SAISON\nVendredi 12 septembre 2025\n> CGR Colmar \nEn partenariat avec le CGR de Colmar \nProjection du film Strip Tease Intégral du Collectif Belgique.\nLa projection sera précédée de la présentation de saison 25/26. \nLes adhésions pour la nouvelle saison seront en vente toute la soirée !
URL:https://lezard.org/event/lancement-de-saison/
LOCATION:Cinéma CGR\, Place Scheurer Kestner\, Colmar\, 68000\, France
END:VEVENT
BEGIN:VEVENT
DTSTART;TZID=Europe/Paris:20250917T180000
DTEND;TZID=Europe/Paris:20250917T200000
DTSTAMP:20260423T021508
CREATED:20250727T160125Z
LAST-MODIFIED:20250727T160125Z
UID:10793-1758132000-1758139200@lezard.org
SUMMARY:Projection SAS de Colmar
DESCRIPTION:
URL:https://lezard.org/event/projection-sas-de-colmar/
LOCATION:Espace Lézard\, 12 route d'Ingersheim\, Colmar\, 68000
END:VEVENT
BEGIN:VEVENT
DTSTART;VALUE=DATE:20250919
DTEND;VALUE=DATE:20251025
DTSTAMP:20260423T021508
CREATED:20250727T160217Z
LAST-MODIFIED:20250727T160400Z
UID:10795-1758240000-1761350399@lezard.org
SUMMARY:Au coeur des silences - Pascale Duanyer
DESCRIPTION:ARTS VISUELS\nPASCALE DUANYER\n\n\n\n\n\n\n\nDu vendredi 19 septembre au vendredi 24 octobre 2025\nVernissage de l’exposition vendredi 19 septembre à 18h30\n> Espace Lézard\n> Entrée libre\n> Visite de groupe sur RDV\, réservation à l’adresse mediation@lezard.org
URL:https://lezard.org/event/expo-au-coeur-des-silences-pascale-duanyer/
LOCATION:Espace Lézard\, 12 route d'Ingersheim\, Colmar\, 68000
END:VEVENT
BEGIN:VEVENT
DTSTART;TZID=Europe/Paris:20250919T183000
DTEND;TZID=Europe/Paris:20250919T210000
DTSTAMP:20260423T021508
CREATED:20250727T162420Z
LAST-MODIFIED:20250727T162420Z
UID:10833-1758306600-1758315600@lezard.org
SUMMARY:Vernissage de l'exposition
DESCRIPTION:ARTS VISUELS\nPASCALE DUANYER\n\nAU COEUR DES SILENCES\n \n\n\n\n\n\n\n\nDu vendredi 19 septembre au vendredi 24 octobre 2025\nVernissage de l’exposition vendredi 19 septembre à 18h30\n> Espace Lézard\n> Entrée libre\n> Visite de groupe sur RDV\, réservation à l’adresse mediation@lezard.org
URL:https://lezard.org/event/vernissage-de-lexposition-2/
LOCATION:Espace Lézard\, 12 route d'Ingersheim\, Colmar\, 68000
END:VEVENT
BEGIN:VEVENT
DTSTART;TZID=Europe/Paris:20250926T190000
DTEND;TZID=Europe/Paris:20250926T233000
DTSTAMP:20260423T021508
CREATED:20250727T160340Z
LAST-MODIFIED:20250916T153815Z
UID:10797-1758913200-1758929400@lezard.org
SUMMARY:Soirée Algérie
DESCRIPTION:SOIRÉE ALGÉRIE\nVendredi 26 septembre 2025\n> CGR de Colmar \n\n\n\n\n\n\n> 19h\nLES MOTS QU’ELLES EURENT UN JOUR\nRéalisateur : Raphaël Pillosio\nFrance – 1h24 – 2025 – Documentaire \n> 21h\nBARBES\, LITTLE ALGÉRIE\nRéalisatrice : Hassan Guerrar\nFrance – 1h33 – 2024
URL:https://lezard.org/event/soiree-algerie/
LOCATION:Cinéma CGR\, Place Scheurer Kestner\, Colmar\, 68000\, France
END:VEVENT
BEGIN:VEVENT
DTSTART;TZID=Europe/Paris:20250927T170000
DTEND;TZID=Europe/Paris:20250927T183000
DTSTAMP:20260423T021508
CREATED:20250727T162510Z
LAST-MODIFIED:20250922T084514Z
UID:10835-1758992400-1758997800@lezard.org
SUMMARY:Performance musicale d'Hélène Bass
DESCRIPTION:ARTS VISUELS\nPASCALE DUANYER\nAU COEUR DES SILENCES\n\n\n\n\n\n\n\nDu vendredi 19 septembre au vendredi 24 octobre 2025\nVernissage de l’exposition vendredi 19 septembre à 18h30\n> Espace Lézard\n> Entrée libre\n> Visite de groupe sur RDV\, réservation à l’adresse mediation@lezard.org \n\n\n\n\n\n\n\nSamedi 27.09 – 17h : Performance musicale d’Hélène Bass et présence de l’artiste[Ouverture de la galerie à partir de 14h30]
URL:https://lezard.org/event/performance-musicale-dhelene-bass/
LOCATION:Espace Lézard\, 12 route d'Ingersheim\, Colmar\, 68000
END:VEVENT
END:VCALENDAR